BEGIN:VCALENDAR
VERSION:2.0
PRODID:-//ChamberMaster//Event Calendar 2.0//EN
METHOD:PUBLISH
X-PUBLISHED-TTL:P3D
REFRESH-INTERVAL:P3D
CALSCALE:GREGORIAN
BEGIN:VEVENT
DTSTART:20171102T230000Z
DTEND:20171103T010000Z
X-MICROSOFT-CDO-ALLDAYEVENT:FALSE
SUMMARY:Single Payer Health Care Forum
DESCRIPTION:SINGLE PAYER HEALTH CARE: WHAT IT MEANS FOR SMALL BUSINESSES\, HEALTH CARE PROVIDERS AND YOU The rising cost of health care with ever- increasing insurance premiums\, co-payments and deductibles is a major concern for businesses and individuals. Learn more about how single payer health care can help to provide solutions to the challenges for businesses and individuals in affording health care
X-ALT-DESC;FMTTYPE=text/html:SINGLE PAYER HEALTH CARE: WHAT IT MEANS FOR SMALL BUSINESSES\, HEALTH CARE PROVIDERS AND YOU The rising cost of health care with ever- increasing insurance premiums\, co-payments and deductibles is a major concern for businesses and individuals. Learn more about how single payer health care can help to provide solutions to the challenges for businesses and individuals in affording health care
LOCATION:67 South Randolph Avenue\, Poughkeepsie\, NY 12601
UID:e.2770.10476397
SEQUENCE:3
DTSTAMP:20260426T020614Z
URL:https://business.dcrcoc.org/events/details/single-payer-health-care-forum-10476397
END:VEVENT

END:VCALENDAR
