BEGIN:VCALENDAR
VERSION:2.0
PRODID:-//ChamberMaster//Event Calendar 2.0//EN
METHOD:PUBLISH
X-PUBLISHED-TTL:P3D
REFRESH-INTERVAL:P3D
CALSCALE:GREGORIAN
BEGIN:VEVENT
DTSTART:20171202T140000Z
DTEND:20171202T153000Z
X-MICROSOFT-CDO-ALLDAYEVENT:FALSE
SUMMARY:Skate with Santa
DESCRIPTION:Join us to kick the holidays off at the McCann Ice Arena. $10 tickets purchased online include skate rental\, ice skating with the big man himself and picture with Santa photo station provided by Capture the Moment. No charge to get in if you are not skating\, donations greatly appreciated. Come create lasting memories. Proceeds benefit Sparrow's nest Charities\, providing meals to families facing a cancer diagnosis in areas of the Hudson Valley.
X-ALT-DESC;FMTTYPE=text/html:Join us to kick the holidays off at the McCann Ice Arena. $10 tickets purchased online include skate rental\, ice skating with the big man himself and picture with Santa photo station provided by Capture the Moment. No charge to get in if you are not skating\, donations greatly appreciated. Come create lasting memories. Proceeds benefit Sparrow&#39\;s nest Charities\, providing meals to families facing a cancer diagnosis in areas of the Hudson Valley.
LOCATION:McCann Ice Arena 14 Civic Center Plaza Poughkeepsie\, NY 12601
UID:e.2770.10476608
SEQUENCE:3
DTSTAMP:20260426T020441Z
URL:https://business.dcrcoc.org/events/details/skate-with-santa-10476608
END:VEVENT

END:VCALENDAR
