BEGIN:VCALENDAR
VERSION:2.0
PRODID:-//ChamberMaster//Event Calendar 2.0//EN
METHOD:PUBLISH
X-PUBLISHED-TTL:P3D
REFRESH-INTERVAL:P3D
CALSCALE:GREGORIAN
BEGIN:VEVENT
DTSTART:20171216T000000Z
DTEND:20171216T050000Z
X-MICROSOFT-CDO-ALLDAYEVENT:FALSE
SUMMARY:Small Business Holiday Party
DESCRIPTION:Dinner\, Dessert\, Dancing and Entertainment featuring Open Top Shelf Bar and Passed Hors' d oeuvres. For more information and menu please visit us on Facebook.
X-ALT-DESC;FMTTYPE=text/html:Dinner\, Dessert\, Dancing and Entertainment featuring Open Top Shelf Bar and Passed Hors&#39\; d oeuvres. For more information and menu please visit us on Facebook.
LOCATION:Mill Creek Caterers 17 Route 376 Hopewell Jct.\, NY 12533
UID:e.2770.10476542
SEQUENCE:3
DTSTAMP:20260426T004954Z
URL:https://business.dcrcoc.org/events/details/small-business-holiday-party-10476542
END:VEVENT

END:VCALENDAR
