BEGIN:VCALENDAR
VERSION:2.0
PRODID:-//ChamberMaster//Event Calendar 2.0//EN
METHOD:PUBLISH
X-PUBLISHED-TTL:P3D
REFRESH-INTERVAL:P3D
CALSCALE:GREGORIAN
BEGIN:VEVENT
DTSTART:20210323T170000Z
DTEND:20210323T180000Z
X-MICROSOFT-CDO-ALLDAYEVENT:FALSE
SUMMARY:Social Media Best Practices for Small Businesses: Dutchess Tourism Virtual Lunch & Learn Series
DESCRIPTION:Kacie Vassari\, Digital Media Manager at Dutchess Tourism\, will discuss social media best practices for businesses. Learn how to maximize your social channels with a limited budget in this Lunch & Learn that will include tips for consistency in messaging and imagery\, as well as engagement and audience\, and feature an example from a local Dutchess County business.
X-ALT-DESC;FMTTYPE=text/html:Kacie Vassari\, Digital Media Manager at Dutchess Tourism\, will discuss social media best practices for businesses. Learn how to maximize your social channels with a limited budget in this Lunch &amp\; Learn that will include tips for consistency in messaging and imagery\, as well as engagement and audience\, and feature an example from a local Dutchess County business.
LOCATION:Zoom
UID:e.2770.10484953
SEQUENCE:3
DTSTAMP:20260421T144236Z
URL:https://business.dcrcoc.org/events/details/social-media-best-practices-for-small-businesses-dutchess-tourism-virtual-lunch-learn-series-10484953
END:VEVENT

END:VCALENDAR
