BEGIN:VCALENDAR
VERSION:2.0
PRODID:-//ChamberMaster//Event Calendar 2.0//EN
METHOD:PUBLISH
X-PUBLISHED-TTL:P3D
REFRESH-INTERVAL:P3D
CALSCALE:GREGORIAN
BEGIN:VEVENT
DTSTART:20210428T140000Z
DTEND:20210428T143000Z
X-MICROSOFT-CDO-ALLDAYEVENT:FALSE
SUMMARY:Socially Responsible Investing Focus of Tompkins’ Next “Women & Wellness” Roundtable
DESCRIPTION:Tompkins Financial Advisors will host its next 30-minute virtual Women & Wellness session\, free and open to all Hudson Valley women\, on Wednesday\, April 28 at 10 a.m. EST. Led by Tamer Elshourbagy\, vice president and senior portfolio manager at Tompkins Financial Advisors\, and Heather Reisner\, a senior associate on WisdomTree's product development and management team\, the discussion will center on "Aligning Your Investment Strategy with Your Values." It will cover what ESG (environmental\, social and governance)\, or socially responsible investment\, is\, how to weigh performance against other options\, and details on how funds and exchange-traded funds are screened and monitored to ensure they qualify as ESG investments. To register for this or future roundtables\, including discussions on mortgages and college planning essentials with financial experts\, or to view previously recorded sessions\, please visit\, http://webinar.tompkinsfinancialadvisors.com/women-and-wellness.
X-ALT-DESC;FMTTYPE=text/html:<span style="color:black"><a href="http://www.tompkinsfinancialadvisors.com/"><span style="font-family:times new roman\,serif">Tompkins Financial Advisors</span></a></span><span style="color:black"><span style="font-family:times new roman\,serif"> will host its next 30-minute virtual Women &amp\; Wellness session\, free and open to all Hudson Valley women\, on Wednesday\, April 28 at 10 a.m. EST. Led by Tamer Elshourbagy\, vice president and senior portfolio manager at Tompkins Financial Advisors\, and Heather Reisner\, a senior associate on WisdomTree&rsquo\;s product development and management team\, the discussion will center on &ldquo\;</span></span><span style="color:black"><a href="http://webinar.tompkinsfinancialadvisors.com/aligning-your-investment-strategy-with-your-values"><span style="font-family:times new roman\,serif">Aligning Your Investment Strategy with Your Values</span></a></span><span style="color:black"><span style="font-family:times new roman\,serif">.&rdquo\; It will cover what ESG (environmental\, social and governance)\, or socially responsible investment\, is\, how to weigh performance against other options\, and details on how funds and exchange-traded funds are screened and monitored to ensure they qualify as ESG investments. To register for this or future roundtables\, including discussions on </span></span><span style="color:black"><a href="http://webinar.tompkinsfinancialadvisors.com/mortgages-what-you-need-to-know"><span style="font-family:times new roman\,serif">mortgages</span></a></span><span style="color:black"><span style="font-family:times new roman\,serif"> and </span></span><span style="color:black"><a href="http://webinar.tompkinsfinancialadvisors.com/college-planning-essentials"><span style="font-family:times new roman\,serif">college planning essentials</span></a></span><span style="color:black"><span style="font-family:times new roman\,serif"> with financial experts\, or to view previously recorded sessions\, please visit\, </span></span><span style="color:black"><a href="http://webinar.tompkinsfinancialadvisors.com/women-and-wellness"><span style="font-family:times new roman\,serif">http://webinar.tompkinsfinancialadvisors.com/women-and-wellness</span></a></span><span style="color:black"><span style="font-family:times new roman\,serif">. </span></span>
LOCATION:Virtual
UID:e.2770.10485091
SEQUENCE:3
DTSTAMP:20260421T131411Z
URL:https://business.dcrcoc.org/events/details/socially-responsible-investing-focus-of-tompkins-next-women-wellness-roundtable-04-28-2021-10485091
END:VEVENT

END:VCALENDAR
