BEGIN:VCALENDAR
VERSION:2.0
PRODID:-//ChamberMaster//Event Calendar 2.0//EN
METHOD:PUBLISH
X-PUBLISHED-TTL:P3D
REFRESH-INTERVAL:P3D
CALSCALE:GREGORIAN
BEGIN:VEVENT
DTSTART:20190923T190000Z
DTEND:20191001T020000Z
X-MICROSOFT-CDO-ALLDAYEVENT:FALSE
SUMMARY:Soft Opening
DESCRIPTION:Welcome to visit out soft opening. You will see our harbor dinning are and sign in our wall.
X-ALT-DESC;FMTTYPE=text/html:Welcome to visit out soft opening. You will see our harbor dinning are and sign in our wall.
LOCATION:2600 South Rd RTE9 Poughkeepsie\, NY 12603
UID:e.2770.10481419
SEQUENCE:3
DTSTAMP:20260422T215309Z
URL:https://business.dcrcoc.org/events/details/soft-opening-10481419
END:VEVENT

END:VCALENDAR
