BEGIN:VCALENDAR
VERSION:2.0
PRODID:-//ChamberMaster//Event Calendar 2.0//EN
METHOD:PUBLISH
X-PUBLISHED-TTL:P3D
REFRESH-INTERVAL:P3D
CALSCALE:GREGORIAN
BEGIN:VEVENT
DTSTART:20180123T233000Z
DTEND:20180124T010000Z
X-MICROSOFT-CDO-ALLDAYEVENT:FALSE
SUMMARY:Solidify Your Business Concept - SCORE Workshop
DESCRIPTION:Members of the local chapter of SCORE will present this free workshop which focuses on your business concept and step-by-step guidance in researching your idea\, your market and your competition. At the end of this workshop you will be able to:   Identify your target markets   Describe your products and services   Collect key competitive information to support your feasibility plan.
X-ALT-DESC;FMTTYPE=text/html:Members of the local chapter of SCORE will present this free workshop which focuses on your business concept and step-by-step guidance in researching your idea\, your market and your competition. At the end of this workshop you will be able to: &bull\; Identify your target markets &bull\; Describe your products and services &bull\; Collect key competitive information to support your feasibility plan.
LOCATION:The Alley Room\, East Fishkill Library\, 348 NY-376\, Hopewell Junction\, NY 12533
UID:e.2770.10476725
SEQUENCE:3
DTSTAMP:20260425T232147Z
URL:https://business.dcrcoc.org/events/details/solidify-your-business-concept-score-workshop-10476725
END:VEVENT

END:VCALENDAR
