BEGIN:VCALENDAR
VERSION:2.0
PRODID:-//ChamberMaster//Event Calendar 2.0//EN
METHOD:PUBLISH
X-PUBLISHED-TTL:P3D
REFRESH-INTERVAL:P3D
CALSCALE:GREGORIAN
BEGIN:VEVENT
DTSTART:20180825T003000Z
DTEND:20180825T033000Z
X-MICROSOFT-CDO-ALLDAYEVENT:FALSE
SUMMARY:Soul City Returns to The Alley Kat!
DESCRIPTION:Soul City is a classic Soul band playing songs from the 60's & 70's when Soul music was at it's finest! Kick back with the smooth sounds of Soul City while enjoying one of 14 varieties of beer on tap\, mixed drink specials and delicious food!\nCheck out the event details on our Facebook page:\n\nSoul City Returns to The Alley Kat!
X-ALT-DESC;FMTTYPE=text/html:<p><span style="color:rgb(75\, 79\, 86)\; font-family:system-ui\,-apple-system\,blinkmacsystemfont\,.sfnstext-regular\,sans-serif\; font-size:14px">Soul City is a classic Soul band playing songs from the 60&#39\;s &amp\; 70&#39\;s when Soul music was at it&#39\;s finest! Kick back with the smooth sounds of Soul City while enjoying one of 14 varieties of beer on tap\, mixed drink specials and delicious food!</span></p>\nCheck out the event details on our Facebook page:<br />\n<a href="https://www.facebook.com/events/444445689318511/">Soul City Returns to The Alley Kat!</a>\n\n<h1>&nbsp\;</h1>\n
LOCATION:The Alley Kat 1677 US 9 Wappingers Falls\, New York\, NY 12590
UID:e.2770.10479443
SEQUENCE:3
DTSTAMP:20260425T155344Z
URL:https://business.dcrcoc.org/events/details/soul-city-returns-to-the-alley-kat-08-24-2018-10479443
END:VEVENT

END:VCALENDAR
