BEGIN:VCALENDAR
VERSION:2.0
PRODID:-//ChamberMaster//Event Calendar 2.0//EN
METHOD:PUBLISH
X-PUBLISHED-TTL:P3D
REFRESH-INTERVAL:P3D
CALSCALE:GREGORIAN
BEGIN:VEVENT
DTSTART:20180225T013000Z
DTEND:20180225T040000Z
X-MICROSOFT-CDO-ALLDAYEVENT:FALSE
SUMMARY:Soul Purpose Live!
DESCRIPTION:Join Soul Purpose for their first appearance at the Alley Kat in Wappingers Falls and enjoy an evening of R&B\, Swing\, Jump Blues\, Smooth Soul and New Orleans Funk!\n\n \nCheck out the event details on our Facebook page:\n\nSoul Purpose Live!
X-ALT-DESC;FMTTYPE=text/html:<div><span style="font-family:inherit\; font-size:14px">Join Soul Purpose for their first appearance at the Alley Kat in Wappingers Falls and enjoy an evening of R&amp\;B\, Swing\, Jump Blues\, Smooth Soul and New Orleans Funk!</span><br />\n&nbsp\;</div>\nCheck out the event details on our Facebook page:<br />\n<a href="https://www.facebook.com/events/2062147250682731/">Soul Purpose Live!</a><br />\n&nbsp\;
LOCATION:The Alley Kat 1677 US 9 Wappingers Falls\, New York\, NY 12590
UID:e.2770.10476775
SEQUENCE:3
DTSTAMP:20260425T222024Z
URL:https://business.dcrcoc.org/events/details/soul-purpose-live-10476775
END:VEVENT

END:VCALENDAR
