BEGIN:VCALENDAR
VERSION:2.0
PRODID:-//ChamberMaster//Event Calendar 2.0//EN
METHOD:PUBLISH
X-PUBLISHED-TTL:P3D
REFRESH-INTERVAL:P3D
CALSCALE:GREGORIAN
BEGIN:VEVENT
DTSTART:20181125T013000Z
DTEND:20181125T043000Z
X-MICROSOFT-CDO-ALLDAYEVENT:FALSE
SUMMARY:Soul Sacrifice Comes to The Alley Kat!
DESCRIPTION:Stop by and enjoy the smooth sounds of Soul Sacrifice!\n\nWe've got 14 varieties of draft beer\, mixed drink specials and a menu with all your favorite foods!\n\n \nCheck out the event details on our Facebook page:\n\nSoul Sacrifice comes to The Alley Kat!
X-ALT-DESC;FMTTYPE=text/html:<p><span style="color:rgb(29\, 33\, 41)\; font-family:system-ui\,-apple-system\,blinkmacsystemfont\,.sfnstext-regular\,sans-serif\; font-size:14px">Stop by and enjoy the smooth sounds of Soul Sacrifice!<br />\nWe&#39\;ve got 14 varieties of draft beer\, mixed drink specials and a menu with all your favorite foods!</span><br />\n&nbsp\;</p>\nCheck out the event details on our Facebook page:<br />\n<a href="https://www.facebook.com/events/1909750895783011/">Soul Sacrifice comes to The Alley Kat!</a>\n\n<h1>&nbsp\;</h1>\n
LOCATION:The Alley Kat 1677 US 9 Wappingers Falls\, New York\, NY 12590
UID:e.2770.10479455
SEQUENCE:3
DTSTAMP:20260425T102239Z
URL:https://business.dcrcoc.org/events/details/soul-sacrifice-comes-to-the-alley-kat-09-07-2018-10479455
END:VEVENT

END:VCALENDAR
