BEGIN:VCALENDAR
VERSION:2.0
PRODID:-//ChamberMaster//Event Calendar 2.0//EN
METHOD:PUBLISH
X-PUBLISHED-TTL:P3D
REFRESH-INTERVAL:P3D
CALSCALE:GREGORIAN
BEGIN:VEVENT
DTSTART:20200327T100000Z
DTEND:20200327T210000Z
X-MICROSOFT-CDO-ALLDAYEVENT:FALSE
SUMMARY:Sparrow's Nest Charity's DRESS DOWN DAY is March 27th - Get Your Gear!
DESCRIPTION:Sparrow's Nest Charity's Dress Down Day fundraiser. Imagine the IMPACT you and your co-workers will have by each purchasing just one t-shirt?! You will be helping feed families in your own neighborhood\, building camaraderie in the workplace\, participating with family and friends in a grass roots movement that will have a lasting positive impact for generations to come. It feels good to do good!
X-ALT-DESC;FMTTYPE=text/html:Sparrow&#39\;s Nest Charity&#39\;s Dress Down Day fundraiser. Imagine the IMPACT you and your co-workers will have by each purchasing just one t-shirt?! You will be helping feed families in your own neighborhood\, building camaraderie in the workplace\, participating with family and friends in a grass roots movement that will have a lasting positive impact for generations to come. It feels good to do good!
LOCATION:https://sparrowsnestcharity.z2systems.com/np/clients/sparrowsnestcharity/giftstore.jsp
UID:e.2770.10483130
SEQUENCE:3
DTSTAMP:20260422T103510Z
URL:https://business.dcrcoc.org/events/details/sparrow-s-nest-charity-s-dress-down-day-is-march-27th-get-your-gear-10483130
END:VEVENT

END:VCALENDAR
