BEGIN:VCALENDAR
VERSION:2.0
PRODID:-//ChamberMaster//Event Calendar 2.0//EN
METHOD:PUBLISH
X-PUBLISHED-TTL:P3D
REFRESH-INTERVAL:P3D
CALSCALE:GREGORIAN
BEGIN:VEVENT
DTSTART:20201017T223000Z
DTEND:20201018T000000Z
X-MICROSOFT-CDO-ALLDAYEVENT:FALSE
SUMMARY:Sparrow's Nest Farm to Table Gala
DESCRIPTION:Our annual Farm to Table Gala has been re-imagined for 2020. Join us from the comfort of your home for this extraordinary experience honoring these 5 remarkable individuals for their outstanding commitment to our Hudson Valley community: Paul Hansut\, Dr. James Nitzkorski\, Dr. Lyda E. Rojas\, Diane Mench and Marie Cole. Proceeds help us feed families in the Hudson Valley facing a cancer diagnosis.
X-ALT-DESC;FMTTYPE=text/html:Our annual Farm to Table Gala has been re-imagined for 2020. Join us from the comfort of your home for this extraordinary experience honoring these 5 remarkable individuals for their outstanding commitment to our Hudson Valley community: Paul Hansut\, Dr. James Nitzkorski\, Dr. Lyda E. Rojas\, Diane Mench and Marie Cole. Proceeds help us feed families in the Hudson Valley facing a cancer diagnosis.
LOCATION:Join us from the comfort of your home!
UID:e.2770.10484466
SEQUENCE:3
DTSTAMP:20260421T223437Z
URL:https://business.dcrcoc.org/events/details/sparrow-s-nest-farm-to-table-gala-10484466
END:VEVENT

END:VCALENDAR
