BEGIN:VCALENDAR
VERSION:2.0
PRODID:-//ChamberMaster//Event Calendar 2.0//EN
METHOD:PUBLISH
X-PUBLISHED-TTL:P3D
REFRESH-INTERVAL:P3D
CALSCALE:GREGORIAN
BEGIN:VEVENT
DTSTART:20171012T220000Z
DTEND:20171013T000000Z
X-MICROSOFT-CDO-ALLDAYEVENT:FALSE
SUMMARY:Sparrow's Nest of the Hudson Valley October Harvest Celebration
DESCRIPTION:You're invited to the October Harvest Celebration hosted by Sparrow's Nest of the Hudson Valley! This is a way as a member of the business community to see where you can invest your money in 2018 through means of sponsorship\, donations and partnerships. Sparrow's Nest of the Hudson Valley provides meals for families with a cancer diagnosis in areas of the Hudson Valley. We'll be unveiling our new commercial kitchen\, administrative offices and be on hand to answer any questions!
X-ALT-DESC;FMTTYPE=text/html:You&#39\;re invited to the October Harvest Celebration hosted by Sparrow&#39\;s Nest of the Hudson Valley! This is a way as a member of the business community to see where you can invest your money in 2018 through means of sponsorship\, donations and partnerships. Sparrow&#39\;s Nest of the Hudson Valley provides meals for families with a cancer diagnosis in areas of the Hudson Valley. We&#39\;ll be unveiling our new commercial kitchen\, administrative offices and be on hand to answer any questions!
LOCATION:946 Route 376\, Suite 7\, Wappingers Falls\, NY 12590
UID:e.2770.10476358
SEQUENCE:3
DTSTAMP:20260426T033650Z
URL:https://business.dcrcoc.org/events/details/sparrow-s-nest-of-the-hudson-valley-october-harvest-celebration-10476358
END:VEVENT

END:VCALENDAR
