BEGIN:VCALENDAR
VERSION:2.0
PRODID:-//ChamberMaster//Event Calendar 2.0//EN
METHOD:PUBLISH
X-PUBLISHED-TTL:P3D
REFRESH-INTERVAL:P3D
CALSCALE:GREGORIAN
BEGIN:VEVENT
DTSTART:20180605T213000Z
DTEND:20180606T010000Z
X-MICROSOFT-CDO-ALLDAYEVENT:FALSE
SUMMARY:Spirit of Service Awards Dinner
DESCRIPTION:Catholic Charities Community Services of Dutchess County recognizing community -minded individuals who truly embody the spirit of service. Honorees: Humanitarian Award: Msgr. Joseph Martin\, Retired\, former pastor of St. Mary's Parish\, Fishkill\; Light of Hope Award: Honey-Jo Kelly\, Birthright Dutchess County\; Legacy Award: Sisters of St. Francis of the Neumann Communities represented by Sr. Roberta Smith\, honoring 100 years of service in the Hudson Valley and St. Francis Hospital.
X-ALT-DESC;FMTTYPE=text/html:Catholic Charities Community Services of Dutchess County recognizing community -minded individuals who truly embody the spirit of service. Honorees: Humanitarian Award: Msgr. Joseph Martin\, Retired\, former pastor of St. Mary&#39\;s Parish\, Fishkill\; Light of Hope Award: Honey-Jo Kelly\, Birthright Dutchess County\; Legacy Award: Sisters of St. Francis of the Neumann Communities represented by Sr. Roberta Smith\, honoring 100 years of service in the Hudson Valley and St. Francis Hospital.
LOCATION:Villa Borghese 70 Widmer Rd. Wappingers Falls\, NY 12590
UID:e.2770.10477720
SEQUENCE:3
DTSTAMP:20260425T170933Z
URL:https://business.dcrcoc.org/events/details/spirit-of-service-awards-dinner-10477720
END:VEVENT

END:VCALENDAR
