BEGIN:VCALENDAR
VERSION:2.0
PRODID:-//ChamberMaster//Event Calendar 2.0//EN
METHOD:PUBLISH
X-PUBLISHED-TTL:P3D
REFRESH-INTERVAL:P3D
CALSCALE:GREGORIAN
BEGIN:VEVENT
DTSTART:20171028T120000Z
DTEND:20171028T210000Z
X-MICROSOFT-CDO-ALLDAYEVENT:FALSE
SUMMARY:Sport KingDome Flag Football Halloween Classic
DESCRIPTION:Join us for the first annual Sports KingDome Flag Football Halloween Classic. It all goes down 8:00 AM on Saturday\, October 28th at Bowdoin County Park (85 Sheafe Road.\, Wappingers Falls NY). Hosted in partnership with N8FFA. (18+) 8 MAN TOURNAMENT / $550 PER TEAM / FLAGS PROVIDED -Single Elimination -N8FFA Rules -Champions Receive (Championship Trophy) -Free Bid into the HCFFL Turkey Bowl
X-ALT-DESC;FMTTYPE=text/html:Join us for the first annual Sports KingDome Flag Football Halloween Classic. It all goes down 8:00 AM on Saturday\, October 28th at Bowdoin County Park (85 Sheafe Road.\, Wappingers Falls NY). Hosted in partnership with N8FFA. (18+) 8 MAN TOURNAMENT / $550 PER TEAM / FLAGS PROVIDED -Single Elimination -N8FFA Rules -Champions Receive (Championship Trophy) -Free Bid into the HCFFL Turkey Bowl
LOCATION:Bowdoin County Park (85 Sheafe Rd.\, Wappingers Falls\, NY 12590)
UID:e.2770.10476353
SEQUENCE:3
DTSTAMP:20260426T033650Z
URL:https://business.dcrcoc.org/events/details/sport-kingdome-flag-football-halloween-classic-10476353
END:VEVENT

END:VCALENDAR
