BEGIN:VCALENDAR
VERSION:2.0
PRODID:-//ChamberMaster//Event Calendar 2.0//EN
METHOD:PUBLISH
X-PUBLISHED-TTL:P3D
REFRESH-INTERVAL:P3D
CALSCALE:GREGORIAN
BEGIN:VEVENT
DTSTART:20180424T120000Z
DTEND:20180425T020000Z
X-MICROSOFT-CDO-ALLDAYEVENT:FALSE
SUMMARY:Spring 2018 Labor & Employment Breakfast Briefings
DESCRIPTION:2017 Time Magazine's "Person of the Year" is the Silence Breakers. In this "Me Too" year of awareness on sexual assault and harassment\, especially in the workplace\, employers need to understand how this landscape is evolving and how to respond proactively. While sexual harassment in the workplace is not new\, traditional reactive approaches and policies are no longer optimal. Combined with the power of social media and trending news\, poorly handled complaints and outdated policies can negatively affect your business reputation\, your working environment and\, ultimately\, your bottom line.
X-ALT-DESC;FMTTYPE=text/html:2017 Time Magazine&#39\;s &ldquo\;Person of the Year&rdquo\; is the Silence Breakers. In this &ldquo\;Me Too&rdquo\; year of awareness on sexual assault and harassment\, especially in the workplace\, employers need to understand how this landscape is evolving and how to respond proactively. While sexual harassment in the workplace is not new\, traditional reactive approaches and policies are no longer optimal. Combined with the power of social media and trending news\, poorly handled complaints and outdated policies can negatively affect your business reputation\, your working environment and\, ultimately\, your bottom line.
LOCATION:Villa Borghese 70 Widmer Road Wappingers Falls\, NY 12590
UID:e.2770.10476791
SEQUENCE:3
DTSTAMP:20260425T194943Z
URL:https://business.dcrcoc.org/events/details/spring-2018-labor-employment-breakfast-briefings-10476791
END:VEVENT

END:VCALENDAR
