BEGIN:VCALENDAR
VERSION:2.0
PRODID:-//ChamberMaster//Event Calendar 2.0//EN
METHOD:PUBLISH
X-PUBLISHED-TTL:P3D
REFRESH-INTERVAL:P3D
CALSCALE:GREGORIAN
BEGIN:VEVENT
DTSTART:20180313T180000Z
DTEND:20180313T220000Z
X-MICROSOFT-CDO-ALLDAYEVENT:FALSE
SUMMARY:Spring Career Fair - Health Care
DESCRIPTION:Become a part of The Brookmeade Community JOB FAIR On The Spot Interviews! Accepting Applications for ALL Positions FULL TIME & PART TIME CNA's\, LPN's\, RN's\, RN Supervisors & Unit Managers Hospitality Aides Dietary & Housekeeping Aides Servers & Caf  Attendant Receptionist Your career starts here  with us! Full benefits for fulltime employees which includes: HMO Healthcare Plans Dental & Vision Life Insurance plans\, Generous paid time off plan Employer contribution to employee retirement savings plan Continued staff training on nursing techniques & trends At The Brookmeade Community applicants are selected on their qualifications and abilities to fulfill the requirements of the position. We are an Equal Opportunity Employer and do not discriminate against any applicant for employment because of race\, color\, sex\, age\, national origin\, religion\, sexual orientation\, gender identity\, status as a veteran\, and basis of disability or any other federal\, state or local protected class. https://www.facebook.com/events/197649387656844/?ti=as
X-ALT-DESC;FMTTYPE=text/html:Become a part of The Brookmeade Community JOB FAIR&mdash\;On The Spot Interviews! Accepting Applications for ALL Positions FULL TIME &amp\; PART TIME CNA&rsquo\;s\, LPN&rsquo\;s\, RN&rsquo\;s\, RN Supervisors &amp\; Unit Managers Hospitality Aides Dietary &amp\; Housekeeping Aides Servers &amp\; Caf&eacute\; Attendant Receptionist Your career starts here&hellip\; with us! Full benefits for fulltime employees which includes: HMO Healthcare Plans Dental &amp\; Vision Life Insurance plans\, Generous paid time off plan Employer contribution to employee retirement savings plan Continued staff training on nursing techniques &amp\; trends At The Brookmeade Community applicants are selected on their qualifications and abilities to fulfill the requirements of the position. We are an Equal Opportunity Employer and do not discriminate against any applicant for employment because of race\, color\, sex\, age\, national origin\, religion\, sexual orientation\, gender identity\, status as a veteran\, and basis of disability or any other federal\, state or local protected class. https://www.facebook.com/events/197649387656844/?ti=as
LOCATION:46 Brookmeade Drive\, Rhinebeck NY 12572
UID:e.2770.10476862
SEQUENCE:3
DTSTAMP:20260425T210618Z
URL:https://business.dcrcoc.org/events/details/spring-career-fair-health-care-10476862
END:VEVENT

END:VCALENDAR
