BEGIN:VCALENDAR
VERSION:2.0
PRODID:-//ChamberMaster//Event Calendar 2.0//EN
METHOD:PUBLISH
X-PUBLISHED-TTL:P3D
REFRESH-INTERVAL:P3D
CALSCALE:GREGORIAN
BEGIN:VEVENT
DTSTART:20180414T150000Z
DTEND:20180414T200000Z
X-MICROSOFT-CDO-ALLDAYEVENT:FALSE
SUMMARY:Spring Craft Fair
DESCRIPTION:Spring Craft Fair! Saturday\, April 14\, 2018 11:00am 4:00pm Highlighting Hudson Valley Artists\, Crafters & local food products! Now accepting vendors! Please email Lydia for an application! Admission: Free!
X-ALT-DESC;FMTTYPE=text/html:Spring Craft Fair! Saturday\, April 14\, 2018 11:00am&ndash\;4:00pm Highlighting Hudson Valley Artists\, Crafters &amp\; local food products! Now accepting vendors! Please email Lydia for an application! Admission: Free!
LOCATION:Mid-Hudson Civic Center 14 Civic Center Plaza Poughkeepsie\, NY 12601
UID:e.2770.10476881
SEQUENCE:3
DTSTAMP:20260425T210235Z
URL:https://business.dcrcoc.org/events/details/spring-craft-fair-10476881
END:VEVENT

END:VCALENDAR
