BEGIN:VCALENDAR
VERSION:2.0
PRODID:-//ChamberMaster//Event Calendar 2.0//EN
METHOD:PUBLISH
X-PUBLISHED-TTL:P3D
REFRESH-INTERVAL:P3D
CALSCALE:GREGORIAN
BEGIN:VEVENT
DTSTART:20171104T190000Z
DTEND:20171106T000000Z
X-MICROSOFT-CDO-ALLDAYEVENT:FALSE
SUMMARY:Springbrook Farm Distillery
DESCRIPTION:Howdy Y'all! Get ready for this week's tasting at Marta's Vineyard. This time\, we're bringin' y'all a local distiller who makes some mighty fine whiskeys and moonshines. Dat's right\, folks\, you heard me   MOONSHINE!\n\nThis here distiller makes 3 darn good moonshines. Now I know it may sound yukky to some\, but I swear their Apple Moonshine is like fresh picked ripe apples right off the tree\, with just a tad of sweetness to it. Of course\, it has a real kick to it\, just like moonshine should.\n\nI tried their Maple Moonshine too! Its just right for sittin' by the fire cuddled up to my sweetheart on a chilly winter's night\, with the wind howlin' outside. Tastes like a little bit o' maple honey\, and is just a hair sweet!\n\nThe Cowboy Coffee - tastes just like my Ma's mornin' coffee\, only with a whollop! It's a real good coffee flavor\, with none of those fancy creams or other ingredients   just coffee with a small dose of sugar!\n\nRye Whiskey and Bourbon   I'm not tellin' you nothin' 'bout these 2 whiskies. Y'all will just have to come by n' taste 'em! I will say one thing\, though. They is both made from home-grown corn\, rye\, wheat\, malted barley\, grown right in these here Adirondack mountains\, and fresh water from our mountain springs too! I defy any of those city slickers to make any better moonshine n' whiskies than we do at Springbrook Farm!\n\nY'all come down to Marta's Vineyard and let Barb serve you up a taste!
X-ALT-DESC;FMTTYPE=text/html:<span style="background-color:rgb(255\, 255\, 255)\; color:rgb(29\, 33\, 41)\; font-family:helvetica\,arial\,sans-serif\; font-size:14px">Howdy Y&rsquo\;all! Get ready for this week&rsquo\;s tasting at Marta&rsquo\;s Vineyard. This time\, we&rsquo\;re bringin&rsquo\; y&rsquo\;all a local distiller who makes some mighty fine whiskeys and moonshines. Dat&rsquo\;s right\, folks\, you heard me &ndash\; MOONSHINE!</span><br />\n<span style="background-color:rgb(255\, 255\, 255)\; color:rgb(29\, 33\, 41)\; font-family:helvetica\,arial\,sans-serif\; font-size:14px">This here distiller makes 3 darn good moonshines. Now I know it may sound yukky to some\, but I swear their Apple Moonshine is like fresh picked ripe apples right off the tree\, with&nbsp\;</span><span style="background-color:rgb(255\, 255\, 255)\; color:rgb(29\, 33\, 41)\; font-family:helvetica\,arial\,sans-serif\; font-size:14px">just a tad of sweetness to it. Of course\, it has a real kick to it\, just like moonshine should.<br />\nI tried their Maple Moonshine too! Its just right for sittin&rsquo\; by the fire cuddled up to my sweetheart on a chilly winter&rsquo\;s night\, with the wind howlin&rsquo\; outside. Tastes like a little bit o&rsquo\; maple honey\, and is just a hair sweet!<br />\nThe Cowboy Coffee - tastes just like my Ma&rsquo\;s mornin&rsquo\; coffee\, only with a whollop! It&rsquo\;s a real good coffee flavor\, with none of those fancy creams or other ingredients &ndash\; just coffee with a small dose of sugar!<br />\nRye Whiskey and Bourbon &ndash\; I&rsquo\;m not tellin&rsquo\; you nothin&rsquo\; &lsquo\;bout these 2 whiskies. Y&rsquo\;all will just have to come by n&rsquo\; taste &lsquo\;em! I will say one thing\, though. They is both made from home-grown corn\, rye\, wheat\, malted barley\, grown right in these here Adirondack mountains\, and fresh water from our mountain springs too! I defy any of those city slickers to make any better moonshine n&rsquo\; whiskies than we do at Springbrook Farm!<br />\nY&rsquo\;all come down to Marta&rsquo\;s Vineyard and let Barb serve you up a taste!</span>
LOCATION:South Road Square 1955 South Rd.\, Poughkeepsie\, New York 12601
UID:e.2770.10476457
SEQUENCE:3
DTSTAMP:20260426T020321Z
URL:https://business.dcrcoc.org/events/details/springbrook-farm-distillery-10476457
END:VEVENT

END:VCALENDAR
