BEGIN:VCALENDAR
VERSION:2.0
PRODID:-//ChamberMaster//Event Calendar 2.0//EN
METHOD:PUBLISH
X-PUBLISHED-TTL:P3D
REFRESH-INTERVAL:P3D
CALSCALE:GREGORIAN
BEGIN:VEVENT
DTSTART:20180224T233000Z
DTEND:20180225T013000Z
X-MICROSOFT-CDO-ALLDAYEVENT:FALSE
SUMMARY:St. Mary's Mothers' Guild - Pasta Dinner
DESCRIPTION:The St. Mary's Mothers' Guild will host their 7th Annual Pasta Dinner - a fundraiser for school field trips. The dinner will take place on Saturday\, February 24 from 6:30 pm - 8:30 pm in the school gym (2 Convent Avenue). It is a buffet of pasta\, meatballs\, salad\, bread\, dessert and ice cream bar. You may bring your own wine. Take out will be available. Only 150 tickets will be sold. Music will be provided by local musician David Laffin. Price: Adults: $12 in advance/$14 at the door\, children ages 3-12: $6 in advance/$8 at the door and children under 3 eat free. Tickets may be purchased from Kristin Catalano (845-667-4227). Please make checks payable to: St. Mary's Mothers' Guild and send to: St. Mary's School - attention Kristin Catalano - 2 Convent Avenue/Wappingers Falls\, NY 12590.
X-ALT-DESC;FMTTYPE=text/html:The St. Mary&#39\;s Mothers&#39\; Guild will host their 7th Annual Pasta Dinner - a fundraiser for school field trips. The dinner will take place on Saturday\, February 24 from 6:30 pm - 8:30 pm in the school gym (2 Convent Avenue). It is a buffet of pasta\, meatballs\, salad\, bread\, dessert and ice cream bar. You may bring your own wine. Take out will be available. Only 150 tickets will be sold. Music will be provided by local musician David Laffin. Price: Adults: $12 in advance/$14 at the door\, children ages 3-12: $6 in advance/$8 at the door and children under 3 eat free. Tickets may be purchased from Kristin Catalano (845-667-4227). Please make checks payable to: St. Mary&rsquo\;s Mothers&rsquo\; Guild and send to: St. Mary&#39\;s School - attention Kristin Catalano - 2 Convent Avenue/Wappingers Falls\, NY 12590.
LOCATION:St. Mary's School\, 2 Convent Avenue\, Wappingers Falls
UID:e.2770.10476636
SEQUENCE:3
DTSTAMP:20260425T222146Z
URL:https://business.dcrcoc.org/events/details/st-mary-s-mothers-guild-pasta-dinner-10476636
END:VEVENT

END:VCALENDAR
