BEGIN:VCALENDAR
VERSION:2.0
PRODID:-//ChamberMaster//Event Calendar 2.0//EN
METHOD:PUBLISH
X-PUBLISHED-TTL:P3D
REFRESH-INTERVAL:P3D
CALSCALE:GREGORIAN
BEGIN:VEVENT
DTSTART:20180127T163000Z
DTEND:20180127T200000Z
X-MICROSOFT-CDO-ALLDAYEVENT:FALSE
SUMMARY:St. Mary's School 2-Penny Social
DESCRIPTION:St. Mary's School (2 Convent Avenue/Wappingers Falls): A 2-Penny Social will be held in the school gym on Saturday\, January 27\, 2018. Doors open at 11:30 a.m. Calling begins at 1:00 p.m. Free admission. Food and 50/50 raffle tickets will be for sale. Proceeds go to the school. For questions or to donate items or gift cards from local businesses\, please email stmaryswapppennysocial@gmail.com.
X-ALT-DESC;FMTTYPE=text/html:St. Mary&#39\;s School (2 Convent Avenue/Wappingers Falls): A 2-Penny Social will be held in the school gym on Saturday\, January 27\, 2018. Doors open at 11:30 a.m. Calling begins at 1:00 p.m. Free admission. Food and 50/50 raffle tickets will be for sale. Proceeds go to the school. For questions or to donate items or gift cards from local businesses\, please email stmaryswapppennysocial@gmail.com.
LOCATION:St. Mary's School (2 Convent Avenue/Wappingers Falls)
UID:e.2770.10476604
SEQUENCE:3
DTSTAMP:20260425T232424Z
URL:https://business.dcrcoc.org/events/details/st-mary-s-school-2-penny-social-10476604
END:VEVENT

END:VCALENDAR
