BEGIN:VCALENDAR
VERSION:2.0
PRODID:-//ChamberMaster//Event Calendar 2.0//EN
METHOD:PUBLISH
X-PUBLISHED-TTL:P3D
REFRESH-INTERVAL:P3D
CALSCALE:GREGORIAN
BEGIN:VEVENT
DTSTART:20171111T140000Z
DTEND:20171111T200000Z
X-MICROSOFT-CDO-ALLDAYEVENT:FALSE
SUMMARY:St. Mary's School Craft Fair - Wappingers Falls
DESCRIPTION:St. Mary's School Craft Fair/Wappingers Falls/2 Convent Avenue Saturday\, November 11th from 9 am - 3 pm FREE admission! Many kinds of vendors and specialty items. Raffles\, food\, and bake sale. Plenty of free parking at the school. Money raised will benefit the students of St. Mary's School. To apply for vendor space and for questions\, please email STMARYSWAPPCRAFTFAIR@gmail.com
X-ALT-DESC;FMTTYPE=text/html:St. Mary&#39\;s School Craft Fair/Wappingers Falls/2 Convent Avenue Saturday\, November 11th from 9 am - 3 pm FREE admission! Many kinds of vendors and specialty items. Raffles\, food\, and bake sale. Plenty of free parking at the school. Money raised will benefit the students of St. Mary&#39\;s School. To apply for vendor space and for questions\, please email STMARYSWAPPCRAFTFAIR@gmail.com
LOCATION:
UID:e.2770.10476285
SEQUENCE:3
DTSTAMP:20260426T020628Z
URL:https://business.dcrcoc.org/events/details/st-mary-s-school-craft-fair-wappingers-falls-10476285
END:VEVENT

END:VCALENDAR
