BEGIN:VCALENDAR
VERSION:2.0
PRODID:-//ChamberMaster//Event Calendar 2.0//EN
METHOD:PUBLISH
X-PUBLISHED-TTL:P3D
REFRESH-INTERVAL:P3D
CALSCALE:GREGORIAN
BEGIN:VEVENT
DTSTART:20171209T150000Z
DTEND:20171209T200000Z
X-MICROSOFT-CDO-ALLDAYEVENT:FALSE
SUMMARY:St. Nicholas Holiday Bazaar
DESCRIPTION:On Saturday\, December 9th from 10 a.m. to 3 p.m. join Grace Church for the 3rd annual St. Nicholas Bazaar. The bazaar will include the sale of beautifully decorated holiday cookies and candies\, and fine handcrafted items made by local artisans. Shop from a variety of hand-made crafts including knitted and felted clothing and accessories\, beaded and silver jewelry\, hand-painted silk scarves and glassware\, one-of-a-kind finely detailed bird houses\, locally produced wool yarn and knitting needles\, pet portraits\, water color and landscape paintings\, pottery\, unique tree ornaments and skirts\, holiday cards\, and much more. Choose your own assortment of festive holiday cookies from the traditional peppermint stick\, ultimate sugar\, and decadent chocolate truffles and caramel toffee\, to the extraordinary yoga gingerbread men. Cookies and candy will be boxed and sold by the pound.
X-ALT-DESC;FMTTYPE=text/html:On Saturday\, December 9th from 10 a.m. to 3 p.m. join Grace Church for the 3rd annual St. Nicholas Bazaar. The bazaar will include the sale of beautifully decorated holiday cookies and candies\, and fine handcrafted items made by local artisans. Shop from a variety of hand-made crafts including knitted and felted clothing and accessories\, beaded and silver jewelry\, hand-painted silk scarves and glassware\, one-of-a-kind finely detailed bird houses\, locally produced wool yarn and knitting needles\, pet portraits\, water color and landscape paintings\, pottery\, unique tree ornaments and skirts\, holiday cards\, and much more. Choose your own assortment of festive holiday cookies from the traditional peppermint stick\, ultimate sugar\, and decadent chocolate truffles and caramel toffee\, to the extraordinary yoga gingerbread men. Cookies and candy will be boxed and sold by the pound.
LOCATION:Grace Church\, 3328 Franklin Avenue\, Millbrook\, NY.
UID:e.2770.10476377
SEQUENCE:3
DTSTAMP:20260426T020336Z
URL:https://business.dcrcoc.org/events/details/st-nicholas-holiday-bazaar-10476377
END:VEVENT

END:VCALENDAR
