BEGIN:VCALENDAR
VERSION:2.0
PRODID:-//ChamberMaster//Event Calendar 2.0//EN
METHOD:PUBLISH
X-PUBLISHED-TTL:P3D
REFRESH-INTERVAL:P3D
CALSCALE:GREGORIAN
BEGIN:VEVENT
DTSTART:20190302T174500Z
DTEND:20190302T181500Z
X-MICROSOFT-CDO-ALLDAYEVENT:FALSE
SUMMARY:St. Patrick's Parade Fun Run
DESCRIPTION:NOTE: ADVANCE REGISTRATION CLOSES THURSDAY\, FEBRUARY 28 AT MIDNIGHT!\n\n\n\nPRESALE BIB PICKUP AND RACE ENTRIES WILL BE AVAILABLE AT FLEET FEET POUGHKEEPSIE ON FRIDAY 10:00AM - 7:00PM\, AND ON SATURDAY MORNING STARTING AT 10:00 AM UNTIL NOON\, AND AT THE RACE STARTING AREA ON SATURDAY FROM 11:15 AM UNTIL 12:30 PM.  CASH OR CHECK ONLY PLEASE.\n\n\n\nRACE STARTS PROMPTLY AT 12:45 PM. \n\n\n\nPARK AT THE SHOPPES AT SOUTH HILLS.\n\n\n\nThe 1st Annual Fun Run will be held March 2 in cooperation with the Dutchess County St. Patrick's Parade Committee and the Village of Wappingers Falls.  The Fun Run will be a festive\, fast and family run immediately before the 24th Annual Dutchess County Saint Patrick's Parade in the Village of Wappingers Falls.  The entrance fee includes a gift (hat or earwarmers) for the first 150 runners and post race refreshments in Mesier Park. Race is capped at 200 runners. Race will be held sun\, rain or snow!\n\n\n\nThere will be Finisher Awards to the Top Three Runners and a best dressed costume contest at the conclusion of the race.  Best dressed categories include but may not be limited to:\n\n- Best Head-to-Toe in Green Costume\n\n- Irish to the Core\n\n- St. Patrick's Team Spirit (awarded to three or more runners together / max of 12) \n\n\n\nRunners will follow the full parade route and cover a short\, but hilly 1.4 mile route through the crowd lined streets of the Village.  Enjoy a great run\, enjoy the parade and patronize local businesses after you exercise!  If you have never been to the parade\, it features great pipe and drum bands\, floats\, music and much more!\n\n\n\nThis event is organized by the Health & Wellness Committee of the Dutchess County Regional Chamber of Commerce in partnership with Fleet Feet of Poughkeepsie\, Dutchess Tourism and is sponsored by Health Quest. A portion of the proceeds will benefit the Dutchess County St. Patrick's Parade Committee Scholarship Fund and The Chamber Foundation\, Inc.\n\n\n\nFor more information about the Parade\, please visit:  www.dcsppc.org. Thank you.\n\n\n\nSponsored by: Health Quest
X-ALT-DESC;FMTTYPE=text/html:<br />\n<em><strong><span style="color: rgb(0\, 0\, 255)\;">NOTE: ADVANCE REGISTRATION CLOSES THURSDAY\, FEBRUARY 28 AT MIDNIGHT!</span><br />\n<br />\nPRESALE BIB PICKUP AND RACE ENTRIES WILL BE AVAILABLE AT FLEET FEET POUGHKEEPSIE ON FRIDAY 10:00AM - 7:00PM\, AND ON SATURDAY MORNING STARTING AT 10:00 AM UNTIL NOON\, AND AT THE RACE STARTING AREA ON SATURDAY FROM 11:15 AM UNTIL 12:30 PM.&nbsp\; CASH OR CHECK ONLY PLEASE.<br />\n<br />\nRACE STARTS PROMPTLY AT 12:45 PM.&nbsp\;</strong></em><br />\n<br />\n<em><strong>PARK AT THE SHOPPES AT SOUTH HILLS.</strong></em><br />\n<br />\nThe 1st Annual Fun Run will be held March 2 in cooperation with the Dutchess County St. Patrick&#39\;s Parade Committee and the Village of Wappingers Falls.&nbsp\; The Fun Run will be a festive\, fast and family run immediately before the 24th Annual Dutchess County Saint Patrick&#39\;s Parade in the Village of Wappingers Falls.&nbsp\; The entrance fee includes a gift (hat or earwarmers) for the first 150 runners and post race refreshments in Mesier Park. Race is capped at 200 runners. Race will be held sun\, rain or snow!<br />\n<br />\nThere will be Finisher Awards to the Top Three Runners and a best dressed costume contest at the conclusion of the race.&nbsp\; Best dressed categories include but may not be limited to:<br />\n- Best Head-to-Toe in Green Costume<br />\n- Irish to the Core<br />\n- St. Patrick&#39\;s Team Spirit (awarded to three or more runners together / max of 12)&nbsp\;<br />\n<br />\nRunners will follow the full parade route and cover a short\, but hilly 1.4 mile route through the crowd lined streets of the Village.&nbsp\; Enjoy a great run\, enjoy the parade and patronize local businesses after you exercise!&nbsp\; If you have never been to the parade\, it features great pipe and drum bands\, floats\, music and much more!<br />\n<br />\nThis event is organized by the Health &amp\; Wellness Committee of the Dutchess County Regional Chamber of Commerce in partnership with Fleet Feet of Poughkeepsie\, Dutchess Tourism and is sponsored by Health Quest.&nbsp\;A portion of the proceeds will benefit the Dutchess County St. Patrick&#39\;s Parade Committee Scholarship Fund and The Chamber Foundation\, Inc.<br />\n<br />\nFor more information about the Parade\, please visit:&nbsp\; www.dcsppc.org. Thank you.<br />\n<br />\n<span style="font-size: 16px\;"><span style="color: rgb(0\, 0\, 0)\;"><strong>Sponsored by:</strong></span>&nbsp\;<a href="https://www.healthquest.org/hq/home.aspx" target="_blank"><span style="color: rgb(0\, 0\, 255)\;">Health Quest</span></a></span>
LOCATION:Village of Wappingers Falls\, NY
UID:e.2770.10480448
SEQUENCE:3
DTSTAMP:20260423T081357Z
URL:https://business.dcrcoc.org/events/details/st-patrick-s-parade-fun-run-10480448
END:VEVENT

END:VCALENDAR
