BEGIN:VCALENDAR
VERSION:2.0
PRODID:-//ChamberMaster//Event Calendar 2.0//EN
METHOD:PUBLISH
X-PUBLISHED-TTL:P3D
REFRESH-INTERVAL:P3D
CALSCALE:GREGORIAN
BEGIN:VEVENT
DTSTART:20200829T210000Z
DTEND:20200829T221500Z
X-MICROSOFT-CDO-ALLDAYEVENT:FALSE
SUMMARY:Stissing Summer Variety Show
DESCRIPTION:THE STISSING CENTER in Pine Plains\, New York presents the STISSING SUMMER VARIETY SHOW\n\n\n\n  A virtual benefit for The Stissing Center\n\n  Online at https:// TheStissingCenter.org/Variety2020\n\n\n\nINVITE YOUR FRIENDS. SHARE THIS WITH FAMILY. THIS IS GOING TO BE REALLY GOOD!\n\n\n\nEmmy Award-winning actress Margo Martindale will host this special free evening of music\, dance\, and spoken word\, featuring artists from across the country and around the block...with special appearances from some very familiar faces...all to benefit The Stissing Center!\n\n\n\nYou're invited to attend from the comfort of your own home at TheStissingCenter.org/Variety2020.\n\n\n\nMake yourself some popcorn\, pour yourself a beverage\, and join us online!\n\n\n\nPerformances by:\n\nEDMAR CASTA EDA   ANDREA TIERRA   GR GOIRE MARET   BRUCE MOLSKY   CYNTHIA CARLE   BENJAMIN HOCHMAN   SHONA TUCKER   CHELSEA FINGAL DESOUZA   SOPHIA ZHOU   JOHN PIELMEIER   TATE   CURTIS MOORE AND TOM MIZER   GRACE ANGELA HENRY   SUSAN WERNER   DR CHRISTOPHER BRELLOCHS AND ELIZABETH GERBI   NATALIA ZUKERMAN   LISA FERRARO
X-ALT-DESC;FMTTYPE=text/html:THE STISSING CENTER in Pine Plains\, New York presents the STISSING SUMMER VARIETY SHOW<br />\n<br />\n&bull\; A virtual benefit for The Stissing Center<br />\n&bull\; Online at https:// TheStissingCenter.org/Variety2020<br />\n<br />\nINVITE YOUR FRIENDS. SHARE THIS WITH FAMILY. THIS IS GOING TO BE REALLY GOOD!<br />\n<br />\nEmmy Award-winning actress Margo Martindale will host this special free evening of music\, dance\, and spoken word\, featuring artists from across the country and around the block...with special appearances from some very familiar faces...all to benefit The Stissing Center!<br />\n<br />\nYou&#39\;re invited to attend from the comfort of your own home at TheStissingCenter.org/Variety2020.<br />\n<br />\nMake yourself some popcorn\, pour yourself a beverage\, and join us online!<br />\n<br />\nPerformances by:<br />\nEDMAR CASTA&Ntilde\;EDA &bull\; ANDREA TIERRA &bull\; GR&Eacute\;GOIRE MARET &bull\; BRUCE MOLSKY &bull\; CYNTHIA CARLE &bull\; BENJAMIN HOCHMAN &bull\; SHONA TUCKER &bull\; CHELSEA FINGAL DESOUZA &bull\; SOPHIA ZHOU &bull\; JOHN PIELMEIER &bull\; TATE &bull\; CURTIS MOORE AND TOM MIZER &bull\; GRACE ANGELA HENRY &bull\; SUSAN WERNER &bull\; DR CHRISTOPHER BRELLOCHS AND ELIZABETH GERBI &bull\; NATALIA ZUKERMAN &bull\; LISA FERRARO
LOCATION:https://TheStissingCenter.org/Variety2020
UID:e.2770.10484454
SEQUENCE:3
DTSTAMP:20260422T015958Z
URL:https://business.dcrcoc.org/events/details/stissing-summer-variety-show-08-29-2020-10484454
END:VEVENT

END:VCALENDAR
