BEGIN:VCALENDAR
VERSION:2.0
PRODID:-//ChamberMaster//Event Calendar 2.0//EN
METHOD:PUBLISH
X-PUBLISHED-TTL:P3D
REFRESH-INTERVAL:P3D
CALSCALE:GREGORIAN
BEGIN:VEVENT
DTSTART:20180408T003000Z
DTEND:20180408T033000Z
X-MICROSOFT-CDO-ALLDAYEVENT:FALSE
SUMMARY:Stone Hill Band debuts at The Alley Kat!
DESCRIPTION:Stone Hill brings the party with danceable 80's Music\, Motown\, Classic & Southern Rock\, and Dirty Dancin' Blues music! Show up for 14 varieties of tap beer\, top shelf liquor\, mixed drink specials and our fabulous pub menu with all your favorite comfort food!\n\n\n\nCheck out the event details on our Facebook page:\n\nStone Hill Band debuts at The Alley Kat!
X-ALT-DESC;FMTTYPE=text/html:<span style="color:rgb(75\, 79\, 86)\; font-family:system-ui\,-apple-system\,blinkmacsystemfont\,.sfnstext-regular\,sans-serif\; font-size:14px">Stone Hill brings the party with danceable 80&#39\;s Music\, Motown\, Classic &amp\; Southern Rock\, and Dirty Dancin&#39\; Blues music! Show up for 14 varieties of tap beer\, top shelf liquor\, mixed drink specials and our fabulous pub menu with all your favorite comfort food!</span><br />\n<br />\nCheck out the event details on our Facebook page:<br />\n<a href="https://www.facebook.com/events/207666983326364/">Stone Hill Band debuts at The Alley Kat!</a>\n<h1>&nbsp\;</h1>\n
LOCATION:The Alley Kat 1677 US 9 Wappingers Falls\, New York\, NY 12590
UID:e.2770.10477191
SEQUENCE:3
DTSTAMP:20260425T195110Z
URL:https://business.dcrcoc.org/events/details/stone-hill-band-debuts-at-the-alley-kat-10477191
END:VEVENT

END:VCALENDAR
