BEGIN:VCALENDAR
VERSION:2.0
PRODID:-//ChamberMaster//Event Calendar 2.0//EN
METHOD:PUBLISH
X-PUBLISHED-TTL:P3D
REFRESH-INTERVAL:P3D
CALSCALE:GREGORIAN
BEGIN:VEVENT
DTSTART:20180622T200000Z
DTEND:20180624T230000Z
X-MICROSOFT-CDO-ALLDAYEVENT:FALSE
SUMMARY:Summer in Spain & Portugal Tasting at Marta's Vineyard
DESCRIPTION:Summer in Spain & Portugal Tasting\n\nJune 22\, Fri 4-7 pm\n\nJune 23\, Sat 1-7 pm\n\nJune 24\, Sun 1- 7pm\n\n \n\nWho wouldn't want to spend the summer in Barcelona\, Lisbon or Seville?\n\nWell\, if you don't have the time or the money\, you can taste Spain in a bottle   and imagine you are in Spain. Just add some tapas and some Spanish guitar and you are all set   oh\, don't forget the romantic low lighting outside on the patio.\n\nOur Spanish lineup   5 different choices!\n\nCubo Tempranillo   Tempranillo grape making this wine taste of fresh black fruit with just enough bright acidity to cut through "meaty" fare. Medium- bodied\, and good slightly chilled. Great with medium weight foods\, such as baked/grilled  chicken\, burgers\, London broil.\n\nArca Nova Vinho Verde   Alvarinho grape(called Albarino in Spain)White\, crisp white\, white flowers and lemon. It's made in the traditional way\, as a very light-bodied wine with a slight spritz. At only 10.5% alcohol\, and its refreshing flavor profile\, this makes the quintessential summer wine. Drink by itself as an aperitif or with very light food\, like green salad\, lightly dressed or very light cheeses similar to Havarti.\n\nArca Nova Vinho Verde Rose' from Espadiero.  Espadiero is an indigenous grape to Spain\, from the cool\, wet area of northwest Spain. Like its white counterpart above\, it has a traditional light Spritz. The flavor and aroma profile is dry\, but with rip strawberry fruit. It makes  great aperitif on its own or with slightly spicy thai food\, or slightly salty foods like potato chips.\n\nColorea Verdejo   Verdejo grape from Spain. This wine comes from La Mancha\, the plateau in the center of Spain\, especially well known for its white wines. The wine has aromas of lemons and melon\, with a palate of minerality and lemons  as well. It will be appealing to the casual drinker as well as the connoisseur. Young and fresh\, its perfect for shellfish\, pasta with clam sauce or light cheese or simply prepared chicken.\n\nAbad dom Bueno Godello   Godello grape from Spain. This is a floral\, and "fruit forward" dry wine\, that is fuller in body and creamy in texture. This wine wants a dense fish\, medium weight cheeses\, richer vegetarian dishes.
X-ALT-DESC;FMTTYPE=text/html:<strong><span style="font-family:segoe script"><span style="font-size:18.0pt">Summer in Spain &amp\; Portugal Tasting</span></span></strong><br />\n<strong><span style="font-family:arial\,sans-serif"><span style="font-size:12.0pt">June 22\, Fri 4-7 pm</span></span></strong><br />\n<strong><span style="font-family:arial\,sans-serif"><span style="font-size:12.0pt">June 23\, Sat 1-7 pm</span></span></strong><br />\n<strong><span style="font-family:arial\,sans-serif"><span style="font-size:12.0pt">June 24\, Sun 1- 7pm</span></span></strong><br />\n&nbsp\;<br />\n<strong><span style="font-size:14.0pt">Who wouldn&rsquo\;t want to spend the summer in Barcelona\, Lisbon or Seville?</span></strong><br />\nWell\, if you don&rsquo\;t have the time or the money\, you can taste Spain in a bottle &ndash\; and <em>imagine</em> you are in Spain. Just add some tapas and some Spanish guitar and you are all set &ndash\; oh\, don&rsquo\;t forget the romantic low lighting outside on the patio.<br />\n<strong><span style="font-size:14.0pt">Our Spanish lineup &ndash\; 5 different choices!</span></strong><br />\n<strong>Cubo Tempranillo</strong> &ndash\; Tempranillo grape making this wine taste of fresh black fruit with just enough bright acidity to cut through &ldquo\;meaty&rdquo\; fare. Medium- bodied\, and good slightly chilled. Great with medium weight foods\, such as baked/grilled&nbsp\; chicken\, burgers\, London broil.<br />\n<strong>Arca Nova Vinho Verde</strong> &ndash\; Alvarinho grape(called Albarino in Spain)White\, crisp white\, white flowers and lemon. It&rsquo\;s made in the traditional way\, as a very light-bodied wine with a slight spritz. At only 10.5% alcohol\, and its refreshing flavor profile\, this makes the quintessential summer wine. Drink by itself as an aperitif or with very light food\, like green salad\, lightly dressed or very light cheeses similar to Havarti.<br />\n<strong>Arca Nova Vinho Verde Rose&rsquo\;</strong> from Espadiero.&nbsp\; Espadiero is an indigenous grape to Spain\, from the cool\, wet area of northwest Spain. Like its white counterpart above\, it has a traditional light Spritz. The flavor and aroma profile is dry\, but with rip strawberry fruit. It makes&nbsp\; great aperitif on its own or with slightly spicy thai food\, or slightly salty foods like potato chips.<br />\n<strong>Colorea Verdejo</strong> &ndash\; Verdejo grape from Spain. This wine comes from La Mancha\, the plateau in the center of Spain\, especially well known for its white wines. The wine has aromas of lemons and melon\, with a palate of minerality and lemons&nbsp\; as well. It will be appealing to the casual drinker as well as the connoisseur. Young and fresh\, its perfect for shellfish\, pasta with clam sauce or light cheese or simply prepared chicken.<br />\n<strong>Abad dom Bueno Godello</strong> &ndash\; Godello grape from Spain. This is a floral\, and &ldquo\;fruit forward&rdquo\; dry wine\, that is fuller in body and creamy in texture. This wine wants a dense fish\, medium weight cheeses\, richer vegetarian dishes.
LOCATION:South Road Square\, 1955 South Rd.\, Poughkeepsie\, New York 12601
UID:e.2770.10479261
SEQUENCE:3
DTSTAMP:20260425T171143Z
URL:https://business.dcrcoc.org/events/details/summer-in-spain-portugal-tasting-at-marta-s-vineyard-10479261
END:VEVENT

END:VCALENDAR
