BEGIN:VCALENDAR
VERSION:2.0
PRODID:-//ChamberMaster//Event Calendar 2.0//EN
METHOD:PUBLISH
X-PUBLISHED-TTL:P3D
REFRESH-INTERVAL:P3D
CALSCALE:GREGORIAN
BEGIN:VEVENT
DTSTART:20180605T223000Z
DTEND:20180605T233000Z
X-MICROSOFT-CDO-ALLDAYEVENT:FALSE
SUMMARY:Summer Sports Injury Prevention for Your Feet and Ankles
DESCRIPTION:Join Dr. Daniel Kelmanovich to learn ways to protect yourself from common foot and ankle injuries such as sprained or rolled ankles\, dislocated toes\, broken bones and more that generally occur while out enjoying those long summer days!\n\nTuesday\, June 5\, 2018 @ 6:30PM\n\nOrthopedic Associates Poughkeepsie Conference Room\n\n1910 South Road l Poughkeepsie\, NY 12601
X-ALT-DESC;FMTTYPE=text/html:<p style="text-align:justify">Join Dr. Daniel Kelmanovich to learn ways to protect yourself from common foot and ankle injuries such as sprained or rolled ankles\, dislocated toes\, broken bones and more that generally occur while out enjoying those long summer days!</p>\n\n<p style="text-align:justify">Tuesday\, June 5\, 2018 @ 6:30PM</p>\n\n<p style="text-align:justify">Orthopedic Associates Poughkeepsie Conference Room</p>\n\n<p style="text-align:justify">1910 South Road l Poughkeepsie\, NY 12601</p>\n
LOCATION:Orthopedic Associates Poughkeepsie Conference Room 1910 South Road l Poughkeepsie\, NY 12601
UID:e.2770.10477814
SEQUENCE:3
DTSTAMP:20260425T171308Z
URL:https://business.dcrcoc.org/events/details/summer-sports-injury-prevention-for-your-feet-and-ankles-10477814
END:VEVENT

END:VCALENDAR
