BEGIN:VCALENDAR
VERSION:2.0
PRODID:-//ChamberMaster//Event Calendar 2.0//EN
METHOD:PUBLISH
X-PUBLISHED-TTL:P3D
REFRESH-INTERVAL:P3D
CALSCALE:GREGORIAN
BEGIN:VEVENT
DTSTART:20191208T170000Z
DTEND:20191208T210000Z
X-MICROSOFT-CDO-ALLDAYEVENT:FALSE
SUMMARY:SunCommon Gingerbread Competition
DESCRIPTION:Celebrate the holidays with a new tradition the SunCommon Gingerbread Competition! Assemble a team\, stock up on peppermints\, candy canes and gumdrops\, and read up on solar panels. Yes\, you read that right. Solar panels. This family-friendly gingerbread house competition requires all houses to include an edible version of those shiny\, black\, renewable-energy-producing photovoltaic cells. Get creative! Extra points will be awarded for additional sustainable house tech\, like Tesla Powerwall. Over $800 in cash prizes will be awarded! In addition to the stunning gingerbread houses\, there will be live music\, mulled cider\, and fresh baked bread from the Elmendorph Inn's one-of-a-kind beehive oven. We hope you'll join us! Mark your calendar for a festive afternoon at the Elmendorph Inn Holiday Open House. To participate in the Gingerbread competition\, please complete our online entry form. Space is limited\, so be sure to enter early!
X-ALT-DESC;FMTTYPE=text/html:Celebrate the holidays with a new tradition&mdash\;the SunCommon Gingerbread Competition! Assemble a team\, stock up on peppermints\, candy canes and gumdrops\, and read up on solar panels. Yes\, you read that right. Solar panels. This family-friendly gingerbread house competition requires all houses to include an edible version of those shiny\, black\, renewable-energy-producing photovoltaic cells. Get creative! Extra points will be awarded for additional sustainable house tech\, like Tesla Powerwall. Over $800 in cash prizes will be awarded! In addition to the stunning gingerbread houses\, there will be live music\, mulled cider\, and fresh baked bread from the Elmendorph Inn&rsquo\;s one-of-a-kind beehive oven. We hope you&rsquo\;ll join us! Mark your calendar for a festive afternoon at the Elmendorph Inn Holiday Open House. To participate in the Gingerbread competition\, please complete our online entry form. Space is limited\, so be sure to enter early!
LOCATION:The Elmendorph Inn 7562 N Broadway\, Red Hook\, NY
UID:e.2770.10482557
SEQUENCE:3
DTSTAMP:20260422T150259Z
URL:https://business.dcrcoc.org/events/details/suncommon-gingerbread-competition-10482557
END:VEVENT

END:VCALENDAR
