BEGIN:VCALENDAR
VERSION:2.0
PRODID:-//ChamberMaster//Event Calendar 2.0//EN
METHOD:PUBLISH
X-PUBLISHED-TTL:P3D
REFRESH-INTERVAL:P3D
CALSCALE:GREGORIAN
BEGIN:VEVENT
DTSTART:20190929T160000Z
DTEND:20190929T160000Z
X-MICROSOFT-CDO-ALLDAYEVENT:FALSE
SUMMARY:Sunrise Stroll
DESCRIPTION:Early risers are welcome before sunrise to witness the spectacular views of the Hudson River Valley. The east and west gates to the Walkway will open at 6:30 AM.
X-ALT-DESC;FMTTYPE=text/html:Early risers are welcome before sunrise to witness the spectacular views of the Hudson River Valley. The east and west gates to the Walkway will open at 6:30 AM.
LOCATION:: Upper Landing Park (83 N. Water St.\, Poughkeepsie NY 12601)
UID:e.2770.10480625
SEQUENCE:3
DTSTAMP:20260422T215513Z
URL:https://business.dcrcoc.org/events/details/sunrise-stroll-09-29-2019-10480625
END:VEVENT

END:VCALENDAR
