BEGIN:VCALENDAR
VERSION:2.0
PRODID:-//ChamberMaster//Event Calendar 2.0//EN
METHOD:PUBLISH
X-PUBLISHED-TTL:P3D
REFRESH-INTERVAL:P3D
CALSCALE:GREGORIAN
BEGIN:VEVENT
DTSTART:20210528T213000Z
DTEND:20210529T003000Z
X-MICROSOFT-CDO-ALLDAYEVENT:FALSE
SUMMARY:Sunset Cider & Yoga
DESCRIPTION:Enjoy an evening of serenity and cider with Treasury Cider and Red Tail Power Yoga at the Treasury Cider Bar. Participants will have exclusive access to our back porch and farm store and get to enjoy the farm atmosphere during hours it is normally closed to the public. Unwind and take in the farm-fresh atmosphere during a 60-minute yoga session on our covered wrap-around porch\, overlooking the fields and orchards below. After class\, sip on a crisp glass of Treasury Cider (your choice of Homestead or Wild at Heart) included in your ticket. Our farm store will remain open until 7 pm and the Treasury Cider Bar will remain open until 8:30 pm for additional cider enjoyment. We will have a small menu of snacks and light bites including our signature cheese plates for you to enjoy as you watch the sunset over the mountains. Yoga class is led by Maureen Benedict\, a tier 2 Certified Baptiste Yoga Instructor\, Founder of RedTail Power Yoga\, Lululemon ambassador\, and local friend of the farm. Tickets include a yoga class and a glass of Treasury Cider and will become available soon. The event is rain or shine and tickets must be purchased in advance. Tickets are non-refundable after purchase. All levels of yogis are welcome and encouraged\, even first-timers.
X-ALT-DESC;FMTTYPE=text/html:Enjoy an evening of serenity and cider with Treasury Cider and Red Tail Power Yoga at the Treasury Cider Bar. Participants will have exclusive access to our back porch and farm store and get to enjoy the farm atmosphere during hours it is normally closed to the public. Unwind and take in the farm-fresh atmosphere during a 60-minute yoga session on our covered wrap-around porch\, overlooking the fields and orchards below. After class\, sip on a crisp glass of Treasury Cider (your choice of Homestead or Wild at Heart) included in your ticket. Our farm store will remain open until 7 pm and the Treasury Cider Bar will remain open until 8:30 pm for additional cider enjoyment. We will have a small menu of snacks and light bites including our signature cheese plates for you to enjoy as you watch the sunset over the mountains. Yoga class is led by Maureen Benedict\, a tier 2 Certified Baptiste Yoga Instructor\, Founder of RedTail Power Yoga\, Lululemon ambassador\, and local friend of the farm. Tickets include a yoga class and a glass of Treasury Cider and will become available soon. The event is rain or shine and tickets must be purchased in advance. Tickets are non-refundable after purchase. All levels of yogis are welcome and encouraged\, even first-timers.
LOCATION:9 Fishkill Farm Road Hopewell Junction\, NY 12531
UID:e.2770.10485137
SEQUENCE:3
DTSTAMP:20260421T111823Z
URL:https://business.dcrcoc.org/events/details/sunset-cider-yoga-10485137
END:VEVENT

END:VCALENDAR
