BEGIN:VCALENDAR
VERSION:2.0
PRODID:-//ChamberMaster//Event Calendar 2.0//EN
METHOD:PUBLISH
X-PUBLISHED-TTL:P3D
REFRESH-INTERVAL:P3D
CALSCALE:GREGORIAN
BEGIN:VEVENT
DTSTART:20180420T230000Z
DTEND:20180421T040000Z
X-MICROSOFT-CDO-ALLDAYEVENT:FALSE
SUMMARY:Support Connection’s 2018 Spring Benefit
DESCRIPTION:A gala event that includes a cocktail hour\, dinner\, music and dancing\, as well as a silent auction and many beautiful prize baskets. A highlight of the evening is the presentation of Support Connection's Annual Spirit Awards. Proceeds will benefit Support Connection's free support services and programs for people affected by breast and ovarian cancer.
X-ALT-DESC;FMTTYPE=text/html:A gala event that includes a cocktail hour\, dinner\, music and dancing\, as well as a silent auction and many beautiful prize baskets. A highlight of the evening is the presentation of Support Connection&rsquo\;s Annual Spirit Awards. Proceeds will benefit Support Connection&rsquo\;s free support services and programs for people affected by breast and ovarian cancer.
LOCATION:Villa Barone Hilltop Manor\, 466 Route 6\, Mahopac\, NY 10541
UID:e.2770.10476803
SEQUENCE:3
DTSTAMP:20260425T210233Z
URL:https://business.dcrcoc.org/events/details/support-connection-s-2018-spring-benefit-10476803
END:VEVENT

END:VCALENDAR
