BEGIN:VCALENDAR
VERSION:2.0
PRODID:-//ChamberMaster//Event Calendar 2.0//EN
METHOD:PUBLISH
X-PUBLISHED-TTL:P3D
REFRESH-INTERVAL:P3D
CALSCALE:GREGORIAN
BEGIN:VEVENT
DTSTART:20180309T140000Z
DTEND:20180309T150000Z
X-MICROSOFT-CDO-ALLDAYEVENT:FALSE
SUMMARY:Talk Time: How Many Ways Can I Search for a Job?
DESCRIPTION:This workshop is designed for Workforce Connections & Youth One Stop participants:  Did you know roughly 70% of jobs are not posted or publicly advertised?  Learn a few ways to find them! \n\n\n\nRegistration required. For more information and to RSVP\, contact Meredith Madden of Workforce Connections at (845) 454-1700\, ext. 1002.\n\n\n\n***This event is not open to the public. Provided for Workforce Connections participants only.
X-ALT-DESC;FMTTYPE=text/html:This workshop is designed for Workforce Connections &amp\; Youth One Stop participants:&nbsp\; Did you know roughly 70% of jobs are not posted or publicly advertised?&nbsp\; Learn a few ways to find them!&nbsp\;<br />\n<br />\nRegistration required. For more information and to RSVP\, contact Meredith Madden of Workforce Connections&nbsp\;at (845) 454-1700\, ext. 1002.<br />\n<br />\n<span style="color: rgb(51\, 51\, 51)\; font-family: sans-serif\, Arial\, Verdana\, &quot\;Trebuchet MS&quot\;\; font-size: 13px\; background-color: rgb(255\, 255\, 255)\;">***This event is not open to the public. Provided for Workforce Connections participants only.</span>
LOCATION:Dutchess County Regional Chamber of Commerce Workforce Connections Office 1 Civic Center Plaza Poughkeepsie\, NY 12601
UID:e.2770.10476837
SEQUENCE:3
DTSTAMP:20260425T210617Z
URL:https://business.dcrcoc.org/events/details/talk-time-how-many-ways-can-i-search-for-a-job-10476837
END:VEVENT

END:VCALENDAR
