BEGIN:VCALENDAR
VERSION:2.0
PRODID:-//ChamberMaster//Event Calendar 2.0//EN
METHOD:PUBLISH
X-PUBLISHED-TTL:P3D
REFRESH-INTERVAL:P3D
CALSCALE:GREGORIAN
BEGIN:VEVENT
DTSTART:20180228T170000Z
DTEND:20180228T180000Z
X-MICROSOFT-CDO-ALLDAYEVENT:FALSE
SUMMARY:Talk Time: What Did You Say?
DESCRIPTION:In this workshop\, designed for Workforce Connections & Youth One Stop participants\, we will learn that what you say and how you say it can affect others' view of you.  Learn some tips to communicate professionally and clearly.\n\n\n\nRegistration required. For more information and to RSVP\, contact Meredith Madden of Workforce Connections at (845) 454-1700\, ext. 1002.\n\n\n\n***This event is not open to the public. Provided for Workforce Connections participants only.
X-ALT-DESC;FMTTYPE=text/html:In this workshop\, designed for Workforce Connections &amp\; Youth One Stop participants\, we will learn that what you say and how you say it can affect others&#39\; view of you.&nbsp\; Learn some tips to communicate professionally and clearly.<br />\n<br />\nRegistration required. For more information and to RSVP\, contact Meredith Madden of Workforce Connections&nbsp\;at (845) 454-1700\, ext. 1002.<br />\n<br />\n<span style="color: rgb(51\, 51\, 51)\; font-family: sans-serif\, Arial\, Verdana\, &quot\;Trebuchet MS&quot\;\; font-size: 13px\; background-color: rgb(255\, 255\, 255)\;">***This event is not open to the public. Provided for Workforce Connections participants only.</span>
LOCATION:Dutchess County Regional Chamber of Commerce Workforce Connections Office 1 Civic Center Plaza Poughkeepsie\, NY 12601
UID:e.2770.10476754
SEQUENCE:3
DTSTAMP:20260425T232224Z
URL:https://business.dcrcoc.org/events/details/talk-time-what-did-you-say-10476754
END:VEVENT

END:VCALENDAR
