BEGIN:VCALENDAR
VERSION:2.0
PRODID:-//ChamberMaster//Event Calendar 2.0//EN
METHOD:PUBLISH
X-PUBLISHED-TTL:P3D
REFRESH-INTERVAL:P3D
CALSCALE:GREGORIAN
BEGIN:VEVENT
DTSTART:20171105T170000Z
DTEND:20171105T210000Z
X-MICROSOFT-CDO-ALLDAYEVENT:FALSE
SUMMARY:Taste of the Hudson Valley
DESCRIPTION:MidHudson Regional Hospital is proud to bring together the best food and wine purveyors from across the region and beyond to share their finest creations at the annual Taste of the Hudson Valley This epicurean festival will boast over 100 exquisite food and wine pairings for attendees to enjoy\, with the majority prepared by local chefs using local ingredients. Sample From: 2017 Distilleries & Wineries Brotherhood Winery Hillrock Estate Distillery Kas Spirits Liquorama Wine Cellars Peony Vodka Robibero Winery Taconic Distillery Tuthilltown Spirits 2017 Breweries Hudson Ale Works Hyde Park Brewing Co. 2017 Restaurants and Purveyors Adams Fairacre Farms Aroma Osteria Artist Palate Baja 328 Bonefish Grill The Bagel Shoppe Brasserie 292 Caf  Macchiato Cardoso Cookies Casa Del Caciocavallo Coppola's Italian American Bistro Cosimo's Brick Oven of Poughkeepsie Lola's Durants Party Rentals Essie's Restaurant Equus Restaurant at The Castle Hotel & Spa Henry's at the Farm Heritage Food & Drink Hudson House River Inn Hudson's Ribs & Fish Main Course Caterers Monte's Local Kitchen & Tap Room Nic L' Inn Wine Cellar on the Hudson Novella's New Paltz Pastry Garden Sprout Creek Farm Sugar and Spice Caf  and Gourmet Catering Sukhothai-Authentic Thai Cuisine TAP The Grandview The Mill Restaurant and Bar The Poughkeepsie Ice House The Roundhouse by terrance brennan Twisted Soul Food Concepts Valley Restaurant @ the Garrison and more!
X-ALT-DESC;FMTTYPE=text/html:MidHudson Regional Hospital is proud to bring together the best food and wine purveyors from across the region and beyond to share their finest creations at the annual Taste of the Hudson Valley This epicurean festival will boast over 100 exquisite food and wine pairings for attendees to enjoy\, with the majority prepared by local chefs using local ingredients. Sample From: 2017 Distilleries &amp\; Wineries Brotherhood Winery Hillrock Estate Distillery Kas Spirits Liquorama Wine Cellars Peony Vodka Robibero Winery Taconic Distillery Tuthilltown Spirits 2017 Breweries Hudson Ale Works Hyde Park Brewing Co. 2017 Restaurants and Purveyors Adams Fairacre Farms Aroma Osteria Artist Palate Baja 328 Bonefish Grill The Bagel Shoppe Brasserie 292 Caf&eacute\; Macchiato Cardoso Cookies Casa Del Caciocavallo Coppola&#39\;s Italian American Bistro Cosimo&#39\;s Brick Oven of Poughkeepsie Lola&#39\;s Durants Party Rentals Essie&#39\;s Restaurant Equus Restaurant at The Castle Hotel &amp\; Spa Henry&#39\;s at the Farm Heritage Food &amp\; Drink Hudson House River Inn Hudson&#39\;s Ribs &amp\; Fish Main Course Caterers Monte&#39\;s Local Kitchen &amp\; Tap Room Nic L&#39\; Inn Wine Cellar on the Hudson Novella&#39\;s New Paltz Pastry Garden Sprout Creek Farm Sugar and Spice Caf&eacute\; and Gourmet Catering Sukhothai-Authentic Thai Cuisine TAP The Grandview The Mill Restaurant and Bar The Poughkeepsie Ice House The Roundhouse by terrance brennan Twisted Soul Food Concepts Valley Restaurant @ the Garrison and more!
LOCATION:The Grandview 176 Rinaldi Boulevard Poughkeepsie\, NY 12601
UID:e.2770.10476360
SEQUENCE:3
DTSTAMP:20260426T020800Z
URL:https://business.dcrcoc.org/events/details/taste-of-the-hudson-valley-10476360
END:VEVENT

END:VCALENDAR
