BEGIN:VCALENDAR
VERSION:2.0
PRODID:-//ChamberMaster//Event Calendar 2.0//EN
METHOD:PUBLISH
X-PUBLISHED-TTL:P3D
REFRESH-INTERVAL:P3D
CALSCALE:GREGORIAN
BEGIN:VEVENT
DTSTART:20190328T230000Z
DTEND:20190329T000000Z
X-MICROSOFT-CDO-ALLDAYEVENT:FALSE
SUMMARY:Tax Diversify Your Retirement Income Seminar
DESCRIPTION:Join us for our free Tax Diversification Seminar\, where you'll learn: \n\n  Why you should tax diversify your retirement portfolio\n\n  Where your retirement income may come from\n\n  What impact taxes can have on your retirement lifestyle
X-ALT-DESC;FMTTYPE=text/html:<span style="color:#1D2129"><span style="font-family:arial\,sans-serif"><span style="font-size:10.5pt">Join us for our free Tax Diversification Seminar\, where you&rsquo\;ll learn:&nbsp\;</span></span></span><br />\n<span style="color:#1D2129"><span style="font-family:arial\,sans-serif"><span style="font-size:10.5pt">&bull\; Why you should tax diversify your retirement portfolio<br />\n&bull\; Where your retirement income may come from<br />\n&bull\; What impact taxes can have on your retirement lifestyle</span></span></span>
LOCATION:Boardman Road Library\, 141 Boardman Rd\, Poughkeepsie\, NY 12603
UID:e.2770.10480191
SEQUENCE:3
DTSTAMP:20260423T081922Z
URL:https://business.dcrcoc.org/events/details/tax-diversify-your-retirement-income-seminar-10480191
END:VEVENT

END:VCALENDAR
