BEGIN:VCALENDAR
VERSION:2.0
PRODID:-//ChamberMaster//Event Calendar 2.0//EN
METHOD:PUBLISH
X-PUBLISHED-TTL:P3D
REFRESH-INTERVAL:P3D
CALSCALE:GREGORIAN
BEGIN:VEVENT
DTSTART:20180426T210000Z
DTEND:20180426T230000Z
X-MICROSOFT-CDO-ALLDAYEVENT:FALSE
SUMMARY:TEA: Family Game Night with the Bruderhof Community
DESCRIPTION:During this Thursday Evening Activity (TEA)\, designed for Youth One Stop and Workforce Connections participants\, we will play games and time with Bruderhof Community!\n\n\n\nRegistration required. For more information and to RSVP\, contact Meredith Madden\, (845) 454-1700\, ext. 1002.\n\n\n\n***This event is not open to the public. Provided for Workforce Connections participants only.
X-ALT-DESC;FMTTYPE=text/html:During this Thursday Evening Activity (TEA)\, designed for Youth One Stop and Workforce Connections participants\, we will play games and time with Bruderhof Community!<br />\n<br />\nRegistration required. For more information and to RSVP\, contact Meredith Madden\, (845) 454-1700\, ext. 1002.<br />\n<br />\n<span style="color: rgb(51\, 51\, 51)\; font-family: sans-serif\, Arial\, Verdana\, &quot\;Trebuchet MS&quot\;\; font-size: 13px\; background-color: rgb(255\, 255\, 255)\;">***This event is not open to the public. Provided for Workforce Connections participants only.</span>
LOCATION:Dutchess County Regional Chamber of Commerce Workforce Connections Office 1 Civic Center Plaza Poughkeepsie\, NY 12601
UID:e.2770.10477186
SEQUENCE:3
DTSTAMP:20260425T195250Z
URL:https://business.dcrcoc.org/events/details/tea-family-game-night-with-the-bruderhof-community-10477186
END:VEVENT

END:VCALENDAR
