BEGIN:VCALENDAR
VERSION:2.0
PRODID:-//ChamberMaster//Event Calendar 2.0//EN
METHOD:PUBLISH
X-PUBLISHED-TTL:P3D
REFRESH-INTERVAL:P3D
CALSCALE:GREGORIAN
BEGIN:VEVENT
DTSTART:20180315T203000Z
DTEND:20180315T230000Z
X-MICROSOFT-CDO-ALLDAYEVENT:FALSE
SUMMARY:TEA: Irish Soda Bread with Bruderhoff
DESCRIPTION:During this Thursday Evening Activity (TEA)\, designed for Workforce Connections and Youth One Stop participants\, we will meet at the office and the drive to the Poughkeepsie Underwear Factory's Open Kitchen to make Irish Soda Bread with the Bruderoff Community. A St. Patrick's Day tradition.\n\n\n\nRegistration required. For more information and to RSVP\, contact Meredith Madden\, (845) 454-1700\, ext. 1002.\n\n\n\n***This event is not open to the public. Provided for Workforce Connections participants only.
X-ALT-DESC;FMTTYPE=text/html:During this Thursday Evening Activity (TEA)\, designed for Workforce Connections and Youth One Stop participants\, we will meet at the office and the drive to the Poughkeepsie Underwear Factory&#39\;s Open Kitchen to make Irish Soda Bread with the Bruderoff&nbsp\;Community. A St. Patrick&#39\;s Day tradition.<br />\n<br />\nRegistration required. For more information and to RSVP\, contact Meredith Madden\, (845) 454-1700\, ext. 1002.<br />\n<br />\n<span style="color: rgb(51\, 51\, 51)\; font-family: sans-serif\, Arial\, Verdana\, &quot\;Trebuchet MS&quot\;\; font-size: 13px\; background-color: rgb(255\, 255\, 255)\;">***This event is not open to the public. Provided for Workforce Connections participants only.</span>
LOCATION:Dutchess County Regional Chamber of Commerce Workforce Connections Office 1 Civic Center Plaza Poughkeepsie\, NY 12601
UID:e.2770.10476846
SEQUENCE:3
DTSTAMP:20260425T210942Z
URL:https://business.dcrcoc.org/events/details/tea-irish-soda-bread-with-bruderhoff-10476846
END:VEVENT

END:VCALENDAR
