BEGIN:VCALENDAR
VERSION:2.0
PRODID:-//ChamberMaster//Event Calendar 2.0//EN
METHOD:PUBLISH
X-PUBLISHED-TTL:P3D
REFRESH-INTERVAL:P3D
CALSCALE:GREGORIAN
BEGIN:VEVENT
DTSTART:20180517T210000Z
DTEND:20180517T230000Z
X-MICROSOFT-CDO-ALLDAYEVENT:FALSE
SUMMARY:TEA: Kickball at King's Park
DESCRIPTION:During this Thursday Evening Activity (TEA)\, designed for Workforce Connections and Youth One Stop participants\, we will meet here and head over to King's Park.  Come enjoy the outside\, the game of kickball\, and snacks!\n\n\n\nRegistration required. For more information and to RSVP\, contact Meredith Madden\, (845) 454-1700\, ext. 1002.\n\n\n\n***This event is not open to the public. Provided for Workforce Connections participants only.
X-ALT-DESC;FMTTYPE=text/html:During this Thursday Evening Activity (TEA)\, designed for Workforce Connections and Youth One Stop participants\, we will meet here and head over to King&#39\;s Park.&nbsp\; Come enjoy the outside\, the game of kickball\, and snacks!<br />\n<br />\nRegistration required. For more information and to RSVP\, contact Meredith Madden\, (845) 454-1700\, ext. 1002.<br />\n<br />\n<span style="color: rgb(51\, 51\, 51)\; font-family: sans-serif\, Arial\, Verdana\, &quot\;Trebuchet MS&quot\;\; font-size: 13px\; background-color: rgb(255\, 255\, 255)\;">***This event is not open to the public. Provided for Workforce Connections participants only.</span>
LOCATION:Dutchess County Regional Chamber of Commerce Workforce Connections Office 1 Civic Center Plaza Poughkeepsie\, NY 12601
UID:e.2770.10477709
SEQUENCE:3
DTSTAMP:20260425T194525Z
URL:https://business.dcrcoc.org/events/details/tea-kickball-at-king-s-park-10477709
END:VEVENT

END:VCALENDAR
