BEGIN:VCALENDAR
VERSION:2.0
PRODID:-//ChamberMaster//Event Calendar 2.0//EN
METHOD:PUBLISH
X-PUBLISHED-TTL:P3D
REFRESH-INTERVAL:P3D
CALSCALE:GREGORIAN
BEGIN:VEVENT
DTSTART:20190621T160000Z
DTEND:20190621T173000Z
X-MICROSOFT-CDO-ALLDAYEVENT:FALSE
SUMMARY:Teaching Kitchen Class — A Balanced Diet For Health
DESCRIPTION:Learn about what comprises a balanced diet\, as well as the nutrients necessary for optimal health. Join Anna Comiotes-Pugsley\, RD\, NewYork-Presbyterian Hudson Valley Hospital\, and create a healthy meal together.
X-ALT-DESC;FMTTYPE=text/html:Learn about what comprises a balanced diet\, as well as the nutrients necessary for optimal health. Join Anna Comiotes-Pugsley\, RD\, NewYork-Presbyterian Hudson Valley Hospital\, and create a healthy meal together.
LOCATION:NewYork-Presbyterian Hudson Valley Hospital Chef Peter X. Kelly Teaching Kitchen 1992 Crompond Road Cortlandt Manor\, NY
UID:e.2770.10480813
SEQUENCE:3
DTSTAMP:20260423T025032Z
URL:https://business.dcrcoc.org/events/details/teaching-kitchen-class-a-balanced-diet-for-health-10480813
END:VEVENT

END:VCALENDAR
