BEGIN:VCALENDAR
VERSION:2.0
PRODID:-//ChamberMaster//Event Calendar 2.0//EN
METHOD:PUBLISH
X-PUBLISHED-TTL:P3D
REFRESH-INTERVAL:P3D
CALSCALE:GREGORIAN
BEGIN:VEVENT
DTSTART:20171019T220000Z
DTEND:20171020T010000Z
X-MICROSOFT-CDO-ALLDAYEVENT:FALSE
SUMMARY:Th!nk Dutchess Alliance For Business - 2017 Business Excellence Awards
DESCRIPTION:For Sponsorship Opportunities or to RSVP\, please email rachel@thinkdutchess.com 845-463-5400.
X-ALT-DESC;FMTTYPE=text/html:For Sponsorship Opportunities or to RSVP\, please email rachel@thinkdutchess.com 845-463-5400.
LOCATION:The Grandview 176 Rinaldi Boulevard Poughkeepsie\, NY 12601
UID:e.2770.10475965
SEQUENCE:3
DTSTAMP:20260426T033624Z
URL:https://business.dcrcoc.org/events/details/th-nk-dutchess-alliance-for-business-2017-business-excellence-awards-10475965
END:VEVENT

END:VCALENDAR
