BEGIN:VCALENDAR
VERSION:2.0
PRODID:-//ChamberMaster//Event Calendar 2.0//EN
METHOD:PUBLISH
X-PUBLISHED-TTL:P3D
REFRESH-INTERVAL:P3D
CALSCALE:GREGORIAN
BEGIN:VEVENT
DTSTART:20180421T220000Z
DTEND:20180422T010000Z
X-MICROSOFT-CDO-ALLDAYEVENT:FALSE
SUMMARY:The 2018 Great Debate Debacle - Murder Mystery Dinner
DESCRIPTION:Dinner murder mystery to benefit the Alzheimer's Association Hudson Valley Chapter. It's time again for the Town of Wappingers Wastepaper Basket Management Supervisor dinner debate and election. Dinner and show is $35. Call 845.224.9273 for tickets and make choice of beef\, turkey or pasta primavera. Make checks payable to Leslie Dorler\, c/o Wappingers Elks Lodge\, 1195 Route 376\, Wappingers Falls\, NY 12590.
X-ALT-DESC;FMTTYPE=text/html:Dinner murder mystery to benefit the Alzheimer&#39\;s Association Hudson Valley Chapter. It&#39\;s time again for the Town of Wappingers Wastepaper Basket Management Supervisor dinner debate and election. Dinner and show is $35. Call 845.224.9273 for tickets and make choice of beef\, turkey or pasta primavera. Make checks payable to Leslie Dorler\, c/o Wappingers Elks Lodge\, 1195 Route 376\, Wappingers Falls\, NY 12590.
LOCATION:Wappingers Elks Lodge\, 1195 Route 276\, Wappingers Falls\, NY 12590
UID:e.2770.10477623
SEQUENCE:3
DTSTAMP:20260425T194944Z
URL:https://business.dcrcoc.org/events/details/the-2018-great-debate-debacle-murder-mystery-dinner-10477623
END:VEVENT

END:VCALENDAR
