BEGIN:VCALENDAR
VERSION:2.0
PRODID:-//ChamberMaster//Event Calendar 2.0//EN
METHOD:PUBLISH
X-PUBLISHED-TTL:P3D
REFRESH-INTERVAL:P3D
CALSCALE:GREGORIAN
BEGIN:VEVENT
DTSTART:20171028T003000Z
DTEND:20171028T033000Z
X-MICROSOFT-CDO-ALLDAYEVENT:FALSE
SUMMARY:The Alley Kat Halloween Party with The JAF Band!
DESCRIPTION:The JAF Band rocks the Alley Kat's Halloween Party! With music from the Stones\, Tom Petty\, Beatles\, John Cougar\, Skynyrd\, ZZ Top - music that makes you want to dance! Fabulous food\, a great varieity of craft beer and top shelf liquor...enough said!\n\n\n\nCheck out the event details on our Facebook page:\n\nThe Alley Kat Halloween Party with The JAF Band!
X-ALT-DESC;FMTTYPE=text/html:<span style="color:rgb(75\, 79\, 86)\; font-family:sf optimized\,system-ui\,-apple-system\,blinkmacsystemfont\,.sfnstext-regular\,sans-serif\; font-size:14px">The JAF Band rocks the Alley Kat&#39\;s Halloween Party! With music from the Stones\, Tom Petty\, Beatles\, John Cougar\, Skynyrd\, ZZ Top - music that makes you want to dance! Fabulous food\, a great varieity of craft beer and top shelf liquor...enough said!</span><br />\n<br />\nCheck out the event details on our Facebook page:<br />\n<a href="https://www.facebook.com/events/361792334264196/?acontext=%7B%22source%22%3A5%2C%22page_id_source%22%3A1126955354040531%2C%22action_history%22%3A[%7B%22surface%22%3A%22page%22%2C%22mechanism%22%3A%22main_list%22%2C%22extra_data%22%3A%22%7B%5C%22page_id%5C%22%3A1126955354040531%2C%5C%22tour_id%5C%22%3Anull%7D%22%7D]%2C%22has_source%22%3Atrue%7D">The Alley Kat Halloween Party with The JAF Band!</a><br />\n<br />\n<br />\n&nbsp\;
LOCATION:The Alley Kat 1677 US 9 Wappingers Falls\, New York\, NY 12590
UID:e.2770.10476398
SEQUENCE:3
DTSTAMP:20260426T033648Z
URL:https://business.dcrcoc.org/events/details/the-alley-kat-halloween-party-with-the-jaf-band-10476398
END:VEVENT

END:VCALENDAR
