BEGIN:VCALENDAR
VERSION:2.0
PRODID:-//ChamberMaster//Event Calendar 2.0//EN
METHOD:PUBLISH
X-PUBLISHED-TTL:P3D
REFRESH-INTERVAL:P3D
CALSCALE:GREGORIAN
BEGIN:VEVENT
DTSTART:20180502T113000Z
DTEND:20180502T130000Z
X-MICROSOFT-CDO-ALLDAYEVENT:FALSE
SUMMARY:The Arc of Dutchess Partners at Work Breakfast
DESCRIPTION:The Arc of Dutchess 7th Annual Breakfast. Celebrating and honoring our partners who offer opportunities and support in employment for people with disabilities
X-ALT-DESC;FMTTYPE=text/html:The Arc of Dutchess 7th Annual Breakfast. Celebrating and honoring our partners who offer opportunities and support in employment for people with disabilities
LOCATION:Poughkeepsie Grand Hotel
UID:e.2770.10476238
SEQUENCE:3
DTSTAMP:20260425T195101Z
URL:https://business.dcrcoc.org/events/details/the-arc-of-dutchess-partners-at-work-breakfast-10476238
END:VEVENT

END:VCALENDAR
