BEGIN:VCALENDAR
VERSION:2.0
PRODID:-//ChamberMaster//Event Calendar 2.0//EN
METHOD:PUBLISH
X-PUBLISHED-TTL:P3D
REFRESH-INTERVAL:P3D
CALSCALE:GREGORIAN
BEGIN:VEVENT
DTSTART:20190501T113000Z
DTEND:20190501T130000Z
X-MICROSOFT-CDO-ALLDAYEVENT:FALSE
SUMMARY:The Arc Partners at Work Breakfast
DESCRIPTION:8th Annual Partners at Work Breakfast
X-ALT-DESC;FMTTYPE=text/html:8th Annual Partners at Work Breakfast
LOCATION:Poughkeepsie Grand Hotel
UID:e.2770.10480669
SEQUENCE:3
DTSTAMP:20260423T044911Z
URL:https://business.dcrcoc.org/events/details/the-arc-partners-at-work-breakfast-10480669
END:VEVENT

END:VCALENDAR
