BEGIN:VCALENDAR
VERSION:2.0
PRODID:-//ChamberMaster//Event Calendar 2.0//EN
METHOD:PUBLISH
X-PUBLISHED-TTL:P3D
REFRESH-INTERVAL:P3D
CALSCALE:GREGORIAN
BEGIN:VEVENT
DTSTART:20180418T213000Z
DTEND:20180418T233000Z
X-MICROSOFT-CDO-ALLDAYEVENT:FALSE
SUMMARY:The Art Effect After Hours
DESCRIPTION:Join us for our inaugural Happy Hour Event! Mix and mingle with Art Effectors and community members. Featuring live music from the Michael Hollis Duo\, art and media Exhibits\, and tastings from: Blessed Brewery\, Earth\, Wind & Fuego\, Ellen's Country Kitchen\, My Brother Bobby's Salsa\, Nostrano Vineyards\, Salt Point Meadery\, and more! Sponsored by Queen City Lofts and Rondout Savings Bank.
X-ALT-DESC;FMTTYPE=text/html:Join us for our inaugural Happy Hour Event! Mix and mingle with Art Effectors and community members. Featuring live music from the Michael Hollis Duo\, art and media Exhibits\, and tastings from: Blessed Brewery\, Earth\, Wind &amp\; Fuego\, Ellen&#39\;s Country Kitchen\, My Brother Bobby&#39\;s Salsa\, Nostrano Vineyards\, Salt Point Meadery\, and more! Sponsored by Queen City Lofts and Rondout Savings Bank.
LOCATION:Poughkeepsie Underwear Factory\, 3rd Fl 8 North Cherry St. Poughkeepsie\, NY 12601
UID:e.2770.10476915
SEQUENCE:3
DTSTAMP:20260425T194845Z
URL:https://business.dcrcoc.org/events/details/the-art-effect-after-hours-10476915
END:VEVENT

END:VCALENDAR
