BEGIN:VCALENDAR
VERSION:2.0
PRODID:-//ChamberMaster//Event Calendar 2.0//EN
METHOD:PUBLISH
X-PUBLISHED-TTL:P3D
REFRESH-INTERVAL:P3D
CALSCALE:GREGORIAN
BEGIN:VEVENT
DTSTART:20210407T160000Z
DTEND:20210407T200000Z
X-MICROSOFT-CDO-ALLDAYEVENT:FALSE
SUMMARY:The Art Effect's Reel Exposure Teen Film and Photography Festival
DESCRIPTION:The Art Effect's Reel Exposure Teen Film and Photography Festival will open on April 7th at the Trolley Barn Gallery in Poughkeepsie\, NY and will be followed by a two-day virtual event on April 8th-9th. The free event will showcase photography and short films made by innovative young artists. Reel Exposure allows the organization to honor those who are passionate about their art and showcase both them and their work to the community. Check out our website to find out more: feelthearteffect.org!
X-ALT-DESC;FMTTYPE=text/html:The Art Effect&#39\;s Reel Exposure Teen Film and Photography Festival will open on April 7th at the Trolley Barn Gallery in Poughkeepsie\, NY and will be followed by a two-day virtual event on April 8th-9th. The free event will showcase photography and short films made by innovative young artists. Reel Exposure allows the organization to honor those who are passionate about their art and showcase both them and their work to the community. Check out our website to find out more: feelthearteffect.org!
LOCATION:
UID:e.2770.10485027
SEQUENCE:3
DTSTAMP:20260421T130812Z
URL:https://business.dcrcoc.org/events/details/the-art-effect-s-reel-exposure-teen-film-and-photography-festival-10485027
END:VEVENT

END:VCALENDAR
