BEGIN:VCALENDAR
VERSION:2.0
PRODID:-//ChamberMaster//Event Calendar 2.0//EN
METHOD:PUBLISH
X-PUBLISHED-TTL:P3D
REFRESH-INTERVAL:P3D
CALSCALE:GREGORIAN
BEGIN:VEVENT
DTSTART:20181013T143000Z
DTEND:20181013T193000Z
X-MICROSOFT-CDO-ALLDAYEVENT:FALSE
SUMMARY:The Art Effect's Workshop at Millbrook Library
DESCRIPTION:In this workshop\, you'll learn Photography 101 in order to use passages from Celeste Ng's Everything I Never Told You as emotional prompts for capturing visual portraits of the emotions the book brings up. Working from the Humans of New York tradition\, you'll also learn Photoshop 101 to digitally edit your photographic creations to include quotes in text superimposed over the images\, allowing parents and children to emotionally process the book and learn new skills. All supplies/materials provided. Registration required. FREE - For teens and adults (intergenerational registrants welcome!)
X-ALT-DESC;FMTTYPE=text/html:In this workshop\, you&#39\;ll learn Photography 101 in order to use passages from Celeste Ng&#39\;s Everything I Never Told You as emotional prompts for capturing visual portraits of the emotions the book brings up. Working from the Humans of New York tradition\, you&#39\;ll also learn Photoshop 101 to digitally edit your photographic creations to include quotes in text superimposed over the images\, allowing parents and children to emotionally process the book and learn new skills. All supplies/materials provided. Registration required. FREE - For teens and adults (intergenerational registrants welcome!)
LOCATION:Millbrook Library 3 Friendly Ln\, Millbrook\, NY 12545
UID:e.2770.10479782
SEQUENCE:3
DTSTAMP:20260425T131214Z
URL:https://business.dcrcoc.org/events/details/the-art-effect-s-workshop-at-millbrook-library-10479782
END:VEVENT

END:VCALENDAR
