BEGIN:VCALENDAR
VERSION:2.0
PRODID:-//ChamberMaster//Event Calendar 2.0//EN
METHOD:PUBLISH
X-PUBLISHED-TTL:P3D
REFRESH-INTERVAL:P3D
CALSCALE:GREGORIAN
BEGIN:VEVENT
DTSTART:20181019T220000Z
DTEND:20181103T000000Z
X-MICROSOFT-CDO-ALLDAYEVENT:FALSE
SUMMARY:The Art Effect's Workshop at Staatsburg Library
DESCRIPTION:In this workshop\, participants explore how graphic novels like American Born Chinese give authors the ability to combine elements of reality and fantasy to tell powerful and compelling stories where the text and imagery enrich and play off one another. Participants will learn the steps that go into creating pages for a graphic novel\, refining their composition skills as they engage in sketching\, lettering\, inking and coloring. All supplies/materials provided. Registration required. FREE - For ages 13-18
X-ALT-DESC;FMTTYPE=text/html:In this workshop\, participants explore how graphic novels like American Born Chinese give authors the ability to combine elements of reality and fantasy to tell powerful and compelling stories where the text and imagery enrich and play off one another. Participants will learn the steps that go into creating pages for a graphic novel\, refining their composition skills as they engage in sketching\, lettering\, inking and coloring. All supplies/materials provided. Registration required. FREE - For ages 13-18
LOCATION:Staatsburg Library 70 Old Post Rd\, Staatsburg\, NY 12580
UID:e.2770.10479779
SEQUENCE:3
DTSTAMP:20260425T101940Z
URL:https://business.dcrcoc.org/events/details/the-art-effect-s-workshop-at-staatsburg-library-10479779
END:VEVENT

END:VCALENDAR
