BEGIN:VCALENDAR
VERSION:2.0
PRODID:-//ChamberMaster//Event Calendar 2.0//EN
METHOD:PUBLISH
X-PUBLISHED-TTL:P3D
REFRESH-INTERVAL:P3D
CALSCALE:GREGORIAN
BEGIN:VEVENT
DTSTART:20200408T120000Z
DTEND:20200408T133000Z
X-MICROSOFT-CDO-ALLDAYEVENT:FALSE
SUMMARY:The CARES and Response Acts and Disaster Lending from an Accountant and Lenders Perspective Webinar
DESCRIPTION:The Dutchess County Regional Chamber of Commerce presents another in its series of webinars designed to help businesses and organizations with COVID-19 guidance and information.\n\n\n\nPanelists include Ita Rahilly\, CPA\, a partner with RBT\, CPAs\, and Fred Swint\, VP SBA Lending | Tri-State with KeyBank NA.\n\n\n\nAttendance on this webinar is limited\; pre-registration is required. Questions may be sent in advance to richk@dcrcoc.org\, and as many questions as possible will be answered on the webinar following the presentation. This webinar will be recorded and available to watch on demand.\n\n\n\nSponsored By: Stenger\, Roberts\, Davis & Diamond\, LLP - SRDD Law\n\n\n\n\n\nPlease register in advance for this webinar: http://ow.ly/lC0H50z6LUZ
X-ALT-DESC;FMTTYPE=text/html:<div style="margin: 0px\; padding: 0px\; border: 0px\; font-variant-numeric: inherit\; font-variant-east-asian: inherit\; font-stretch: inherit\; font-size: 14px\; line-height: inherit\; font-family: &quot\;Segoe UI&quot\;\, &quot\;Segoe UI Web (West European)&quot\;\, &quot\;Segoe UI&quot\;\, -apple-system\, BlinkMacSystemFont\, Roboto\, &quot\;Helvetica Neue&quot\;\, sans-serif\; vertical-align: baseline\; color: rgb(0\, 0\, 0)\;">\n<div style="margin: 0px\; padding: 0px\; border: 0px\; font: inherit\; vertical-align: baseline\; color: inherit\;">\n<div class="_3FAYod7kjH9o5HZX_Phvf6 allowTextSelection" style="margin: 0px 0px 0px 52px\; padding: 10px 0px 0px\; border: 0px\; font: inherit\; vertical-align: baseline\; color: inherit\; user-select: text\; cursor: pointer\; display: flex\; -webkit-box-pack: justify\; justify-content: space-between\;">\n<div class="_1Lo7BjmdsKZy3IMMxN7mVu" style="margin: 0px\; padding: 0px\; border: 0px\; font: inherit\; vertical-align: baseline\; color: inherit\; width: 272.642px\; min-width: 0px\; display: inline-block\;">&nbsp\;</div>\n</div>\n</div>\n</div>\n&nbsp\;<span style="color:black\;"><span style="font-family:times new roman\,serif\;"><span style="font-size:14.0pt\;">The Dutchess County Regional Chamber of Commerce presents another in its series of webinars designed to help businesses and organizations with COVID-19 guidance and information.<br />\n<br />\nPanelists include Ita Rahilly\, CPA\, a partner with RBT\, CPAs\, and Fred Swint\, VP SBA Lending | Tri-State with KeyBank NA.<br />\n<br />\nAttendance on this webinar is limited\; pre-registration is required. Questions may be sent in advance to </span></span></span><span style="font-family:times new roman\,serif\;"><span style="font-size:14.0pt\;"><a href="mailto:richk@dcrcoc.org"><span style="color:#0000FF\;">richk@dcrcoc.org</span></a></span></span><span style="color:black\;"><span style="font-family:times new roman\,serif\;"><span style="font-size:14.0pt\;">\, and as many questions as possible will be answered on the webinar following the presentation. This webinar will be recorded and available to watch on demand.<br />\n<br />\n<strong>Sponsored By</strong>: </span></span></span><strong><span style="font-family:times new roman\,serif\;"><span style="font-size:14.0pt\;"><a href="https://srddlaw.com/" target="_blank"><span style="color:#0000FF\;">Stenger\, Roberts\, Davis &amp\; Diamond\, LLP - SRDD Law</span></a></span></span></strong><br />\n<br />\n<br />\n<strong><span style="font-family: &quot\;times new roman&quot\;\, serif\;"><span style="font-size: 14pt\;"><span style="color:#000000\;">Please register in advance for this webinar:</span>&nbsp\;</span></span></strong><strong style="color: rgb(0\, 0\, 0)\; font-family: &quot\;Segoe UI&quot\;\, &quot\;Segoe UI Web (West European)&quot\;\, &quot\;Segoe UI&quot\;\, -apple-system\, BlinkMacSystemFont\, Roboto\, &quot\;Helvetica Neue&quot\;\, sans-serif\; font-size: 14px\;"><span style="font-family: &quot\;times new roman&quot\;\, serif\;"><span style="font-size: 14pt\;"><a href="http://ow.ly/lC0H50z6LUZ"><span style="color:#0000FF\;"><strong>http://ow.ly/lC0H50z6LUZ</strong></span></a></span></span></strong><br />\n<br />\n<br />\n<br />\n&nbsp\;
LOCATION:
UID:e.2770.10483244
SEQUENCE:3
DTSTAMP:20260422T083655Z
URL:https://business.dcrcoc.org/events/details/the-cares-and-response-acts-and-disaster-lending-from-an-accountant-and-lenders-perspective-webinar-10483244
END:VEVENT

END:VCALENDAR
